BEGIN:VCALENDAR
VERSION:2.0
PRODID:-//Gratis-in-Berlin//NONSGML kigkonsult.se iCalcreator 2.14//
METHOD:PUBLISH
X-WR-CALNAME:Gratis-in-Berlin Tip Kalender
X-WR-CALDESC:Erhalte Gratis-in-Berlin Tips in deinem Kalender
BEGIN:VEVENT
UID:20260419T170859UTC-1140tCU2Vf@Gratis-in-Berlin
DTSTAMP:20260419T170859Z
DESCRIPTION:Späti-Vortrag und Kiez-FührungWie haben sich soziale Unterschiede zwis
 chen Ost und West in Berlin und Deutschland seit der Wiedervereinigung ver
 ändert? Wo zeigen sich Ungleichheiten heute noch besonders deutlich ? und wa
 s sagt die Forschung dazu? Und wie war das eigentlich während der deutschen 
 Teilung in Berlin\, besonders im Berliner Mitte-Kiez?Diesen Fragen widmet 
 sich die Auftaktveranstaltung am Dienstag\, 5. Mai 2026 der Reihe ?WZB in 
 deinem Kiez: Sozialwissenschaften treffen urbane Kiez-Kultur in Berlin?.Au
 sgangspunkt ist die wissenschaftliche Auseinandersetzung mit sozialer Ungl
 eichheit\, welcher auch im Berliner Stadtraum sichtbar ist ? insbesondere 
 mit Blick auf Entwicklungen zwischen Ost und West\, auf Nachwirkungen hist
 orischer Trennlinien und auf aktuelle soziale Dynamiken. Ziel der Veransta
 ltungsreihe ist es\, Forschung zu sozialer Ungleichheit mit urbaner Berlin
 er Alltagskultur zu verbinden und Themen wie Migration\, Gentrifizierung u
 nd soziale Teilhabe in einem niedrigschwelligen\, lokalen Format zugänglich 
 zu machen.Der Abend besteht aus einem thematischen Vortrag in einem Kiez-S
 päti von WZB-Präsidentin Nicola Fuchs-Schündeln sowie einer Führung durch den Kiez-Unter
 grund mit Berliner Unterwelten e.V. So werden Forschung und Stadterkundung
  miteinander verbunden ? nah an den Themen\, nah am Ort und offen für den Austa
 usch mit der Nachbarschaft.Gemeinsam mit den Teilnehmenden möchten wir ins Ge
 spräch kommen\, wie sich Ungleichheiten in Berlin heute zeigen\, welche hist
 orischen Spuren bis in die Gegenwart reichen und welche Perspektiven für ein ge
 rechteres Zusammenleben im Kiez denkbar sind. Wir freuen uns auf einen reg
 en Austausch.Die Veranstaltungsreihe ?WZB in deinem Kiez? besteht aus drei
  Veranstaltungen im Mai und Juni und richtet sich an alle Interessierten\,
  Veranstaltungssprache ist Deutsch.Anmeldung: Bitte melden Sie sich für die Tei
 lnahme über den Link bis spätestens 4. Mai 2026 an. Die Teilnahmeplätze sind begren
 zt. https://events.wzb.eu/wzb-kiez-ostwest/&nbsp\;Datum und Uhrzeit: 5. Ma
 i 2026\, Beginn um 17:30 Uhr\, Dauer ca. 2\,5 - 3 Stunden Veranstaltungsor
 t: Berlin-Mitte (Treffpunkt wird mit Anmeldungsbestätigung bekanntgegeben). 
 Kontakt: Emily Frank\, emily.frank@wzb.euoffizielle Veranstaltungswebsite 
 des WZBs zum Event: https://www.wzb.eu/en/node/90015\n\nViel Spass wünscht Grat
 is-in-Berlin\n\nLink zum Tip: \nZu den Gratis-in-Berlin Angeboten: http://
 www.gratis-in-berlin.de\n
DTSTART;VALUE=DATE:20260505
DTEND;VALUE=DATE:20260506
SUMMARY:WZB in deinem Kiez: Noch immer Ungleichheiten zwischen Ost und West
 ?
END:VEVENT
END:VCALENDAR
