BEGIN:VCALENDAR
VERSION:2.0
PRODID:-//Gratis-in-Berlin//NONSGML kigkonsult.se iCalcreator 2.14//
METHOD:PUBLISH
X-WR-CALNAME:Gratis-in-Berlin Tip Kalender
X-WR-CALDESC:Erhalte Gratis-in-Berlin Tips in deinem Kalender
BEGIN:VEVENT
UID:20260419T170940UTC-9226Ng08uu@Gratis-in-Berlin
DTSTAMP:20260419T170940Z
DESCRIPTION:Sie können einen Computer bedienen und haben keine Lust auf den On
 line-Zwang\, KI und Werbung auf Windows? Warum nicht einmal Linux\, ein Op
 en Source-Betriebssystem\, probieren?Diese Veranstaltung bietet die Gelege
 nheit\, unter Betreuung einer erfahrenen Person Linux zu installieren. Abg
 esehen von einem Back-up ist keine Vorbereitung nötig.Bringen Sie Ihre digita
 len Geräte mit und bereiten Sie im Vorfeld ein Back-up vor.© Lena Heise\n\nVi
 el Spass wünscht Gratis-in-Berlin\n\nLink zum Tip: https://www.gratis-in-berlin
 .de/wissen-live/item/2078121-linux-install-party\nZu den Gratis-in-Berlin 
 Angeboten: http://www.gratis-in-berlin.de\n
DTSTART;VALUE=DATE:20260510
DTEND;VALUE=DATE:20260511
SUMMARY:Linux Install Party
END:VEVENT
END:VCALENDAR
