BEGIN:VCALENDAR
VERSION:2.0
PRODID:-//Gratis-in-Berlin//NONSGML kigkonsult.se iCalcreator 2.14//
METHOD:PUBLISH
X-WR-CALNAME:Gratis-in-Berlin Tip Kalender
X-WR-CALDESC:Erhalte Gratis-in-Berlin Tips in deinem Kalender
BEGIN:VEVENT
UID:20260419T171110UTC-8938HUwt6d@Gratis-in-Berlin
DTSTAMP:20260419T171110Z
DESCRIPTION:40 Jahre lang sicherte die Stasi die Herrschaft der Staatsparte
 i SED. In ihrem 'Kampf gegen den Feind' dehnte sich das Ministerium für Staatss
 icherheit immer weiter aus ? in Lichtenberg und der gesamten DDR. Mutige B
 ürgerinnen und Bürger sicherten 1990 hier die Unterlagen der Geheimpolizei nicht nur
  vor der Vernichtung\, sie machten Mielkes Hauptquartier wieder zum öffentlic
 hen Raum. Heute befindet sich hier das Stasi-Unterlagen-Archiv und klärt über das
  Wirken der Stasi und deren Unterlagen auf. 'Ein Monument der Überwachung':
  Im Stasi-Unterlagen-Archiv lagern 111 Kilometer Akten\, in denen vielfach
  persönliche Daten über Menschen gespeichert sind - gesammelt vom Staat. Die Ausst
 ellung 'Einblick ins Geheime' macht die Bedeutung dieses Archivs begreifba
 r. Nach der Führung haben Sie die Möglichkeit\, unsere Beispielakten-Sammlung zu b
 esuchen. Sie besteht aus Reproduktionen originaler Stasi-Unterlagen. Neben
  Sachakten und Personalunterlagen von Stasi-Offizieren finden sich hier au
 ch Akten von Betroffenen. Diese haben der Veröffentlichung ihrer Unterlagen z
 ugestimmt und machen einen 'Einblick ins Geheime' möglich. Anmeldung über einblick
 -ins-geheime@bundesarchiv.de oder Tel. 030 18665-6770 Adresse: Normannenst
 r. 21a\, 10365 Berlin\, ?Haus 7?\n\nViel Spass wünscht Gratis-in-Berlin\n\nLink
  zum Tip: https://www.gratis-in-berlin.de/wissen-live/item/2078156-einblic
 k-ins-geheime-wochenendfuehrung\nZu den Gratis-in-Berlin Angeboten: http:/
 /www.gratis-in-berlin.de\n
DTSTART;VALUE=DATE:20260509
DTEND;VALUE=DATE:20260510
SUMMARY:Einblick ins Geheime - Wochenendführung
END:VEVENT
END:VCALENDAR
