BEGIN:VCALENDAR
VERSION:2.0
PRODID:-//Gratis-in-Berlin//NONSGML kigkonsult.se iCalcreator 2.14//
METHOD:PUBLISH
X-WR-CALNAME:Gratis-in-Berlin Tip Kalender
X-WR-CALDESC:Erhalte Gratis-in-Berlin Tips in deinem Kalender
BEGIN:VEVENT
UID:20260419T153647UTC-6818c2vVrp@Gratis-in-Berlin
DTSTAMP:20260419T153647Z
DESCRIPTION:Am 22. April 2026 begeht Berlin als Hauptstadt der Spionage ein
  herausragendes Jubiläum ? den 70. Jahrestag des legendären Spionagetunnels. D
 azu haben Forscher und Spezialisten der Berliner Unterwelten überraschende Neui
 gkeiten in den Archiven der CIA\, Stasi und einer Untersuchungskommission 
 aufgespürt und ausgewertet.Berlin\, 1954. Die Stadt ist ein Epizentrum des Kalt
 en Krieges. Die CIA und der britische MI6 planen im Verborgenen einen der 
 gewagtesten Coups der Geheimdienstgeschichte: die Operation Gold. Der Spio
 nagetunnel ragte von West-Berlin rund 330 Meter in die DDR hinein. Von dor
 t hörten die Nachrichtendienste ab Mai 1955 über 400.000 Telefonate der sowjetisch
 en Militärs ab ? also hatten sie den direkten Zugriff auf die Gedankenwelt d
 es Kremls. Der sowjetische Nachrichtendienst beendete das Unternehmen im A
 pril 1956.Doch was die Westmächte nicht ahnen: Ein Verräter saß bereits bei den
  Planungen mit am Tisch. George Blake\, ein Maulwurf im britischen Geheimd
 ienst\, hat Moskau längst über jedes Detail informiert. Während die CIA und das MI6
  Millionen in die Auswertung der abgehörten Gespräche investieren\, spielen die
  Sowjets ein doppeltes Spiel. Operation Gold erzählt die wahre Geschichte vo
 n technischem Genie\, politischer Hybris und dem bitteren Geschmack des Ve
 rrats. Ein packendes Stück Zeitgeschichte über einen Tunnel\, der zum Symbol für die Absu
 rdität und die Gefahr des atomaren Zeitalters wurde. Wir sind gespannt auf d
 ie Enthüllungen zu einer Legende des Kalten Krieges.TEILNEHMERProf. Dr. Helmut 
 Müller-Enbergs\, PolitologeDietmar Arnold\, Berliner Unterwelten e.V.MODERATION
 Sven Felix Kellerhoff\, DIE WELT\n\nViel Spass wünscht Gratis-in-Berlin\n\nLink
  zum Tip: \nZu den Gratis-in-Berlin Angeboten: http://www.gratis-in-berlin
 .de\n
DTSTART;VALUE=DATE:20260421
DTEND;VALUE=DATE:20260422
SUMMARY: Die letzten Geheimnisse! Operation Gold ? Der Berliner Spionagetun
 nel
END:VEVENT
END:VCALENDAR
