BEGIN:VCALENDAR
VERSION:2.0
PRODID:-//Gratis-in-Berlin//NONSGML kigkonsult.se iCalcreator 2.14//
METHOD:PUBLISH
X-WR-CALNAME:Gratis-in-Berlin Tip Kalender
X-WR-CALDESC:Erhalte Gratis-in-Berlin Tips in deinem Kalender
BEGIN:VEVENT
UID:20260419T153722UTC-9632U9jAJn@Gratis-in-Berlin
DTSTAMP:20260419T153722Z
DESCRIPTION:Künstliche Intelligenz\, kurz KI\, ist mittlerweile überall. Aber wie kan
 n man sie für sich sinnvoll nutzen?In unserem Einführungskurs zum Thema Künstliche Intell
 igenz lernen Sie am Beispiel von ChatGPT\, wie das Programm Ihnen im Allta
 g helfen kann. Wir zeigen Ihnen in klaren und gut verständlichen Schritten\,
  wie Sie dem Programm Fragen stellen und dabei hilfreiche Antworten erhalt
 en.Der Digital Lotse Ron Rothe zeigt\, wie Sie bei ChatGPT einfache Fragen
  stellen können\, um ein möglichst ausführliches Ergebnis zu erhalten.6. Mai 2026 // 
 17?18 Uhr- Eintritt frei- Gruppenarbeitsraum im EG- ohne VoranmeldungDie M
 ittelpunktbibliothek ist über die Adalbertstraße ebenerdig zugänglich. Der Eintrit
 t in das Gebäude ist über eine Automatiktür mit Türöffner möglich. Eine zweite Tür am Eingang muss 
 händisch geöffnet werden. In der warmen Jahreszeit bemühen wir uns darum\, dass dies
 e Tür geöffnet bleibt. Die Bibliothek verfügt über einen Aufzug und ein barrierefrei
 es WC im Erdgeschoss. Die WC-Nutzung ist mit einem gültigen Bibliotheks- oder L
 esesaalausweis möglich. Wenn Sie Fragen haben oder Unterstützung benötigen\, sprechen
  Sie uns jederzeit an. Wir unterstützen Sie gerne.\n\nViel Spass wünscht Gratis-in-B
 erlin\n\nLink zum Tip: \nZu den Gratis-in-Berlin Angeboten: http://www.gra
 tis-in-berlin.de\n
DTSTART;VALUE=DATE:20260506
DTEND;VALUE=DATE:20260507
SUMMARY:Einführungskurs: 'Künstliche Intelligenz - am Beispiel von ChatGPT'
END:VEVENT
END:VCALENDAR
