BEGIN:VCALENDAR
VERSION:2.0
PRODID:-//Gratis-in-Berlin//NONSGML kigkonsult.se iCalcreator 2.14//
METHOD:PUBLISH
X-WR-CALNAME:Gratis-in-Berlin Tip Kalender
X-WR-CALDESC:Erhalte Gratis-in-Berlin Tips in deinem Kalender
BEGIN:VEVENT
UID:20260423T131240UTC-4906IutrVp@Gratis-in-Berlin
DTSTAMP:20260423T131240Z
DESCRIPTION:Einladung zum VDI BV-BB Arbeitskreis Informationstechnik-Vortra
 g zum Thema:&nbsp\;Informationssicherheit ? was geht?s mich an?\n\n\nInfor
 mationssicherheit ist heute weit mehr als eine reine IT-Aufgabe\; sie ist 
 die Grundvoraussetzung für den Schutz der Vertraulichkeit\, Integrität und Verfügbarke
 it von geschäftskritischen Daten. Für Ingenieurbüros ist die Einführung eines Informationss
 icherheitsmanagementsystems (ISMS) eine strategische Entscheidung\, um die
  eigene Ingenieurskunst sowie das geistige Eigentum vor unbefugtem Zugriff
 \, Diebstahl oder Manipulation zu schützen.Gerade im Zuge der digitalen Transfo
 rmation und der Entwicklung vernetzter Systeme wie ?Smart Building?-Lösungen 
 riskieren Unternehmen ohne wirksame Sicherheitsstrukturen den Verlust von 
 Marktanteilen an modernere Wettbewerber oder gar existenzbedrohende Dateni
 nkonsistenzen. Neben dem Schutz der Reputation hilft ein ISMS nach ISO/IEC
  27001 zudem dabei\, die Einhaltung gesetzlicher und vertraglicher Anforde
 rungen wie der DSGVO oder des PCI DSS sicherzustellen und so kostspielige 
 Bußgelder zu vermeiden.\n\nBei diesem Vortrag in unserem Arbeitskreis werde
 n wir nach einer kurzen Einführung in die Grundkonzepte vor allem den praxisori
 entierten Anhang A der ISO/IEC 27001:2022 unter die Lupe nehmen. Dieser Re
 ferenzsatz umfasst 93 Maßnahmen\, die in die vier Bereiche organisatorische
 \, personenbezogene\, physische und technologische Maßnahmen unterteilt sin
 d. Wir besprechen konkret auf den Ingenieursalltag zugeschnittene Kontroll
 en\, wie etwa die Informationssicherheit im Projektmanagement (A.5.8)\, de
 n Einsatz von Kryptographie (A.8.24) zur Absicherung von Kundendaten sowie
  die notwendige Trennung von Entwicklungs-\, Prüf- und Produktionsumgebungen (A
 .8.31) bei der Softwareentwicklung.\nGemeinsam wollen wir erarbeiten\, wie
  diese Maßnahmen die betriebliche Kontinuität bei Störungen (A.5.29) gewährleisten
  und eine nachhaltige Sicherheitskultur in Ihren Büros etablieren können.\n\nMicha
 el Taube\, Trainer + Mentor bei LEECON TS wird uns auf den aktuellen Stand
  bringen und die Sitzung moderieren.\n\nWir freuen uns auf Ihre Teilnahme!
 Ihr Forum Informationstechnik im VDI Berlin-Brandenburg\n\nBitte melden Si
 e sich über den externen Link an.\n\nBild:&nbsp\;Wang Yukun via Gettyimages\n\n
 Viel Spass wünscht Gratis-in-Berlin\n\nLink zum Tip: \nZu den Gratis-in-Berlin 
 Angeboten: http://www.gratis-in-berlin.de\n
DTSTART;VALUE=DATE:20260427
DTEND;VALUE=DATE:20260428
SUMMARY:FIT-Online: Informationssicherheit ? was geht?s mich an?
END:VEVENT
END:VCALENDAR
