BEGIN:VCALENDAR
VERSION:2.0
PRODID:-//Gratis-in-Berlin//NONSGML kigkonsult.se iCalcreator 2.14//
METHOD:PUBLISH
X-WR-CALNAME:Gratis-in-Berlin Tip Kalender
X-WR-CALDESC:Erhalte Gratis-in-Berlin Tips in deinem Kalender
BEGIN:VEVENT
UID:20260419T170905UTC-6638WpOudx@Gratis-in-Berlin
DTSTAMP:20260419T170905Z
DESCRIPTION:Der VDI BV-BB Arbeitskreis Konstruktion und Entwicklung lädt Sie 
 zu einer Online-Veranstaltung ein: 'CADAI: Konstruktion neu gedacht ? mit 
 KI und ohne CAD-Kenntnisse'  Mit CADAI steht eine neue Generation von Kons
 truktionssoftware zur Verfügung\, die es ermöglicht\, Bauteile direkt aus Texteing
 aben oder einfachen Skizzen zu generieren.In der Veranstaltung wird unser 
 Gast Pedram Shahid\, Co-Founder und CEO von CADAICO\, die Software vorstel
 len ? von den Grundlagen des ?Chat-to-Design?-Ansatzes über die KI-gestützte Modellg
 enerierung bis hin zur Integration in bestehende CAD-Systeme. Anhand typis
 cher Anwendungsfälle aus Produktentwicklung\, Vorrichtungsbau und Instandhal
 tung wird gezeigt\, wie CADAI Konstruktionsprozesse beschleunigt\, Fehler 
 reduziert und neue Nutzergruppen für die Konstruktion erschließt. Auch aktuelle 
 Weiterentwicklungen zur Verbesserung von Modellqualität und Zuverlässigkeit we
 rden vorgestellt.Zielgruppe:Die Veranstaltung richtet sich an Konstrukteur
 innen und Konstrukteure sowie an Anwenderinnen und Anwender ohne\, mit ger
 ingen CAD-Kenntnissen\, z. B. aus Montage\, Betriebsmittelplanung oder Ins
 tandhaltung. Aber auch an erfahrene Konstrukteure\, die Ihren Entwicklungs
 prozess beschleunigen wollen und alle die sich privat oder beruflich mit 3
 d-Druck beschäftigen.  Bitte melden Sie sich über den externen Link an.  Bild: La
 urence Dutton via Getty Images\n\nViel Spass wünscht Gratis-in-Berlin\n\nLink z
 um Tip: \nZu den Gratis-in-Berlin Angeboten: http://www.gratis-in-berlin.d
 e\n
DTSTART;VALUE=DATE:20260422
DTEND;VALUE=DATE:20260423
SUMMARY:CADAI: Konstruktion neu gedacht ? mit KI und ohne CAD-Kenntnisse
END:VEVENT
END:VCALENDAR
