BEGIN:VCALENDAR
VERSION:2.0
PRODID:-//Gratis-in-Berlin//NONSGML kigkonsult.se iCalcreator 2.14//
METHOD:PUBLISH
X-WR-CALNAME:Gratis-in-Berlin Tip Kalender
X-WR-CALDESC:Erhalte Gratis-in-Berlin Tips in deinem Kalender
BEGIN:VEVENT
UID:20260419T170903UTC-1232Thw73v@Gratis-in-Berlin
DTSTAMP:20260419T170903Z
DESCRIPTION:Mit unserem Fortbildungsangebot für Lehrer*innen laden wir zum spiel
 erischen Erkunden der Zukunft ein und bieten einen praxisnahen Einstieg in
  die Zukunftsforschung in der Schule.Wir zeigen\, wie du mit Hilfe unserer
  Bildungsmaterialien deine Schüler*innen dabei unterstützen kannst\, mögliche Zukünfte als C
 hance zu begreifen und selbstbestimmt mitzugestalten.Die Teilnahme an dies
 em kostenlosen Fortbildungstag wird dich befähigen\, eigenständig nächste Schrit
 te in deiner Unterrichtsgestaltung zu gehen. Wir bieten sofort einsetzbare
  Unterrichtsmaterialien zur Vermittlung von Zukunftsdenken. Die Fortbildun
 g richtet sich sowohl an Lehrkräfte für Grundschulen (ab 4. Klasse) als auch für weite
 rführende Schulen und Multiplikator*innen.Informationen-&gt\; Veranstaltungsort
 : Workshop-Bereich des Labs -&gt\; Eintritt: kostenfrei-&gt\; Eine Anmeldu
 ng ist erforderlich.Eine Buchung ist erforderlich.-&gt\; Veranstaltungsspr
 ache: Deutsch-&gt\; Unsere Mentor*innen sprechen Deutsch und Englisch. Sie
  unterstützen euch gern bei den Experimenten und Workshop-Angeboten.-&gt\; Max.
  Teilnehmer*innenzahl: 18-&gt\; Alter: ab 18-&gt\; Dauer: 6\,5 StundenZugäng
 lichkeit-&gt\; Zukunft ist für alle da! Das Futurium möchte für alle Menschen zugänglich 
 sein. Wenn es eurerseits weitere Zugangsbedürfnisse gibt\, teilt sie uns gern m
 it. Wir versuchen\, sie zu erfüllen: info@futurium.de-&gt\; Hier findet ihr all
 e Informationen zur Barrierefreiheit: https://futurium.de/de/barrierefreih
 eitFoto &amp\; Video-&gt\; Während der Veranstaltung werden Fotos und Videos
  gemacht. Wenn ihr nicht abgebildet werden wollt\, meldet euch bitte vorab
 .Tickets-&gt\; Eine Anmeldung ist erforderlich. Über diesen Link gelangt ih
 r zum Ticketshop.https://tueftellab.de/makerspace/futurium-lab/* Bei Benut
 zung des Links verlast ihr die Webseite des Futuriums. -&gt\; Das Futurium
  lebt von großen Ideen ? und kleinen Beiträgen. Mit einer Spende macht ihr Zu
 kunft möglich! Hier könnt ihr das Futurium unterstützen.&nbsp\;Foto: Jan Windszus\n\n
 Viel Spass wünscht Gratis-in-Berlin\n\nLink zum Tip: \nZu den Gratis-in-Berlin 
 Angeboten: http://www.gratis-in-berlin.de\n
DTSTART;VALUE=DATE:20260904
DTEND;VALUE=DATE:20260905
SUMMARY:Bring Zukünfte in die Schule! Fortbildungstag für Lehrer*innen
END:VEVENT
END:VCALENDAR
