BEGIN:VCALENDAR
VERSION:2.0
PRODID:-//Gratis-in-Berlin//NONSGML kigkonsult.se iCalcreator 2.14//
METHOD:PUBLISH
X-WR-CALNAME:Gratis-in-Berlin Tip Kalender
X-WR-CALDESC:Erhalte Gratis-in-Berlin Tips in deinem Kalender
BEGIN:VEVENT
UID:20260419T153639UTC-3829h1nrPd@Gratis-in-Berlin
DTSTAMP:20260419T153639Z
DESCRIPTION:Wie wird die Demokratie der Zukunft aussehen? Bei uns im Futuri
 um Lab habt ihr die Gelegenheit\, euch mit den Herausforderungen und Chanc
 en auseinanderzusetzen\, die vor uns liegen.In diesem Format könnt ihr eure e
 igenen Ideen und Vorstellungen für wünschenswerte Zukünfte entwickeln. Was ist eure 
 Forderung an die Demokratie von morgen? Mit dem Lasercutter erstellt ihr S
 tencils\, Sprühschablonen\, um eure Forderung in die reale Welt zu bringen. In 
 einem fiktiven Szenario geht es um Demokratie und KI-Anwendungen mit Gesic
 htserkennung. Um die eigene Identität vor dieser Beobachtung und Gesichtserk
 ennung zu schützen\, könnt ihr Anti-Gesichtserkennungsmasken gestalten und sie mit
  verschiedenen Mustern tarnen.Unsere Mentor*innen stehen euch bei der Umse
 tzung eurer Ideen zur Seite und zeigen euch\, wie der Lasercutter funktion
 iert. Dazu gibt es hilfreiche Lernmaterialien\, die euch unterstützen werden.Da
 s Drop-in-Format ist offen gestaltet und unterscheidet sich von klassische
 n Workshops. Wir planen ein\, dass ihr ca. 20 Minuten im Lab verbringt\, u
 m erste Berührungspunkte mit der Technologie und dem Zukunftsthema zu haben. So
 llte es besonders voll sein\, kann es vorkommen\, dass nicht alle Teilnehm
 enden alle Stationen ausprobieren können. Seid also flexibel und nutzt die Ge
 legenheit\, euch auf die spannenden Themen einzulassen!Informationen-&gt\;
  Veranstaltungsort: Workshop-Bereich des Labs-&gt\; Eintritt: kostenfrei-&
 gt\; Veranstaltungssprache: Deutsch-&gt\; Unsere Mentor*innen sprechen Deu
 tsch und Englisch. Sie unterstützen euch gern bei den Experimenten und Workshop
 -Angeboten.-&gt\; Für Familien und Kinder (ab 8 Jahren)Zugänglichkeit-&gt\; Zukun
 ft ist für alle da! Das Futurium möchte für alle Menschen zugänglich sein. Wenn es eurers
 eits weitere Zugangsbedürfnisse gibt\, teilt sie uns gern mit. Wir versuchen\, 
 sie zu erfüllen: info@futurium.deHier findet ihr alle Informationen zur Barrier
 efreiheit: https://futurium.de/de/barrierefreiheitTickets-&gt\; Für diese Veran
 staltung benötigt ihr kein Ticket. Der Workshop findet im Drop-In-Format stat
 t\, d.h. ihr könnt einfach vorbeikommen.-&gt\; Eine Anmeldung ist nicht erfor
 derlich.-&gt\; Das Futurium lebt von großen Ideen ? und kleinen Beiträgen. Mi
 t einer Spende macht ihr Zukunft möglich! Hier könnt ihr das Futurium unterstützen. H
 ier könnt ihr das Futurium unterstützen.©David von Becker\n\nViel Spass wünscht Gratis-i
 n-Berlin\n\nLink zum Tip: \nZu den Gratis-in-Berlin Angeboten: http://www.
 gratis-in-berlin.de\n
DTSTART;VALUE=DATE:20260829
DTEND;VALUE=DATE:20260830
SUMMARY:Family Open Lab ? Zukunftsideen für die Demokratie
END:VEVENT
END:VCALENDAR
