BEGIN:VCALENDAR
VERSION:2.0
PRODID:-//Gratis-in-Berlin//NONSGML kigkonsult.se iCalcreator 2.14//
METHOD:PUBLISH
X-WR-CALNAME:Gratis-in-Berlin Tip Kalender
X-WR-CALDESC:Erhalte Gratis-in-Berlin Tips in deinem Kalender
BEGIN:VEVENT
UID:20260421T135857UTC-9933NV6I85@Gratis-in-Berlin
DTSTAMP:20260421T135857Z
DESCRIPTION:Die Transiranische Eisenbahn\, seit 2021 UNESCO-Welterbe\, vere
 int herausragende Ingenieurkunst mit einer anspruchsvollen geografischen u
 nd kulturellen Vielfalt. Der Vortrag skizziert die Gründe ihrer Anerkennung und
  zeigt\, wie Originalität und Betriebssicherheit in einem aktiven Verkehrssy
 stem erhalten werden. Im Mittelpunkt stehen die verschiedenen Instandhaltu
 ngsstrategien für Gebäude\, Brücken\, Nebenanlagen und historische Ausrüstung.Darüber hinaus wer
 den Maßnahmen zur Sicherung der Streckenführung und zum Schutz vor Naturgefahren
  vorgestellt\, die den Erhalt zentraler Ingenieurbauwerke gewährleisten. Die
  Beispiele verdeutlichen\, wie technische Anforderungen und denkmalpfleger
 ische Ziele zusammenwirken. Der Beitrag zeigt\, wie ein lebendiges Kulture
 rbe dauerhaft bewahrt und gleichzeitig weiterbetrieben werden kann.  Dies 
 ist eine Kooperationsveranstaltung zwischen Verein Deutscher Ingenieure (V
 DI) ? Bezirksverein Berlin-Brandenburg e.V.Arbeitskreis Technikgeschichte 
 ? Dr.-Ing. Dr.-Ing. E.h. Karl-Eugen Kurrer und PD Dr. phil. Stefan PoserAr
 beitskreis Bautechnik ? Dipl.-Ing. Heidrun MatthäusVerein Deutscher Ingenieu
 re (VDI) ? Bezirksverein München\, Ober- und Niederbayern e.V.Arbeitskreis Tech
 nikgeschichteVerein Deutscher Ingenieure (VDI) ? Württembergischer Ingenieurver
 ein e.V.Arbeitskreis Technikgeschichte ? Dr. Thomas Wissert   Bitte melden
  Sie sich über den externen Link zur Veranstaltung an.  Bild:&nbsp\;M.R.DASTAFK
 AN\, CC BY 3.0\, via Wikimedia Commons\n\nViel Spass wünscht Gratis-in-Berlin\n
 \nLink zum Tip: \nZu den Gratis-in-Berlin Angeboten: http://www.gratis-in-
 berlin.de\n
DTSTART;VALUE=DATE:20260507
DTEND;VALUE=DATE:20260508
SUMMARY:Die Transiranische Eisenbahn als UNESCO-Welterbe: Ingenieurkunst un
 d verschiedene Instandhaltungsstrategien
END:VEVENT
END:VCALENDAR
