BEGIN:VCALENDAR
VERSION:2.0
PRODID:-//Gratis-in-Berlin//NONSGML kigkonsult.se iCalcreator 2.14//
METHOD:PUBLISH
X-WR-CALNAME:Gratis-in-Berlin Tip Kalender
X-WR-CALDESC:Erhalte Gratis-in-Berlin Tips in deinem Kalender
BEGIN:VEVENT
UID:20260421T120208UTC-5377XMAa0i@Gratis-in-Berlin
DTSTAMP:20260421T120208Z
DESCRIPTION:Austauschrunde zu (technischen) Alltagshilfen für Menschen mit Behin
 derungen\, Angehörige\, Freund*innenThema am 6. Mai 2026: ?Smarte Hilfen?Von 
 Sturzerkennungssystemen\, Saugrobotern\, Induktionsherden und anderen Haus
 haltshilfen über Sprachassistenten bis hin zu Smart Watches und Brillen: Welche
  Möglichkeiten bieten smarte Hilfsmittel\, wie können sie den Alltag für Menschen mit
  Behinderungen erleichtern und bereichern? Als Praxisbeispiel dient ein Er
 fahrungsbericht zur Nutzung einer smarten Brille.Diese Gesprächsrunde ist ke
 ine klassische Infoveranstaltung\, sondern der Austausch untereinander ste
 ht im Vordergrund. Alle sind mit ihren Erfahrungen und Fragen in dieser Au
 stauschrunde willkommen. Ein technikbegeisterter Betroffener begleitet die
  Treffen. Die Teilnahme ist kostenlos.Die Initiative wird unterstützt von der K
 ontaktstelle PflegeEngagement Reinickendorf und dem P.A.N. Zentrum der Fürst Do
 nnersmarck-Stiftung.Zeit: Mittwoch\, 06. Mai 2026 von 16 bis 17 Uhr\;&nbsp
 \;nächste Termine: 1. Juli\, 2. September\,4. November\, jeweils 16-17 Uhr\,
  mit jeweils anderen ThemenOrt: P.A.N. Zentrum für Post-Akute Neurorehabilitati
 on der Fürst Donnersmarck-Stiftung |Wildkanzelweg 28 | 13465 BerlinInformatione
 n:Kontaktstelle PflegeEngagement ReinickendorfTel.: 030 ? 41 74 57 52Mail:
  pflegeengagement@unionhilfswerk.de\n\nViel Spass wünscht Gratis-in-Berlin\n\nL
 ink zum Tip: \nZu den Gratis-in-Berlin Angeboten: http://www.gratis-in-ber
 lin.de\n
DTSTART;VALUE=DATE:20260506
DTEND;VALUE=DATE:20260507
SUMMARY:Ziemlich gute Technik! Thema: Smarte Hilfe
END:VEVENT
END:VCALENDAR
