BEGIN:VCALENDAR
VERSION:2.0
PRODID:-//Gratis-in-Berlin//NONSGML kigkonsult.se iCalcreator 2.14//
METHOD:PUBLISH
X-WR-CALNAME:Gratis-in-Berlin Tip Kalender
X-WR-CALDESC:Erhalte Gratis-in-Berlin Tips in deinem Kalender
BEGIN:VEVENT
UID:20260419T184230UTC-99739khKaW@Gratis-in-Berlin
DTSTAMP:20260419T184230Z
DESCRIPTION:Seien Sie dabei: Vortragsreihe ?Hochbaukultur aus Deutschland ?
  Tragwerke?Erhalten Sie aus erster Hand exklusive Einblicke in die Erfahru
 ngen\, Arbeitsweisen und Projekte der Architekten und Tragwerksplaner.Wie 
 entstehen prägende Sonderbauten unserer Zeit ? von berlinmodern bis Stuttgar
 t 21?Im Rahmen der Vortragsreihe des Instituts für Bauingenieurwesen der Techni
 schen Universität Berlin gibt Radu-Florin Berger von der Werner Sobek AG\, B
 erlin\, spannende Einblicke in das Entwerfen und Konstruieren anspruchsvol
 ler Tragwerke. Im Mittelpunkt stehen ausgewählte und preisgekrönte Hochbauten s
 owie die ingenieurtechnische Philosophie hinter komplexen Projekten.Die Re
 ihe wird von den Fachgebieten?Entwerfen und Konstruieren ? Verbundstruktur
 en?\,?Entwerfen und Konstruieren ? Stahlbau?sowie ?Tragwerkskonstruktionen
  des Hochbaus? organisiert.Die Veranstaltung findet in Kooperation zwische
 n der TU Berlin und dem VDI BV-BB-Arbeitskreis Bautechnik (Heidrun Matthäus)
  statt.Wir freuen uns auf einen inspirierenden Vortrag und den fachlichen 
 Austausch! Ihr VDI BV-BB\n\nViel Spass wünscht Gratis-in-Berlin\n\nLink zum Tip
 : \nZu den Gratis-in-Berlin Angeboten: http://www.gratis-in-berlin.de\n
DTSTART;VALUE=DATE:20260428
DTEND;VALUE=DATE:20260429
SUMMARY:Sonderbauten: Vom berlinmodern bis Stuttgart 21
END:VEVENT
END:VCALENDAR
