BEGIN:VCALENDAR
VERSION:2.0
PRODID:-//Gratis-in-Berlin//NONSGML kigkonsult.se iCalcreator 2.14//
METHOD:PUBLISH
X-WR-CALNAME:Gratis-in-Berlin Tip Kalender
X-WR-CALDESC:Erhalte Gratis-in-Berlin Tips in deinem Kalender
BEGIN:VEVENT
UID:20260419T215436UTC-4976pZ6wpU@Gratis-in-Berlin
DTSTAMP:20260419T215436Z
DESCRIPTION:Die Veranstaltung bietet den Austausch über Fragen der Mobilität im Al
 ter.Dabei geht es um Themen wie:- Mobilität in verschiedenen Lebensphasen- S
 traßen\, Parks und öffentlicher Raum- Hindernisse\, Behinderung\, Abhilfe und 
 Beseitigung- aktive Interessenvertretung durch Fuss e.V. und Senior:innenv
 ertretung- Bewegungsangebote im Bezirk und Grüne Hauptwege.Für alle Menschen\, die s
 ich dem Thema Mobilität vor allem mit dem Fokus auf die Fußmobilität nähern\, die
  Anliegen einbringen wollen und Austausch suchen.Evelyn Hagenah (Fuss e.V.
 ) und Wolfgang Pohl (Senior:innenvertretung)In Zusammenarbeit mit der Seni
 or:innenvertretung Tempelhof-Schöneberg und gemeinsam mit der Bezirksgruppe v
 on Fuss e.VBitte kurz per E-Mail anmelden.\n\nViel Spass wünscht Gratis-in-Berl
 in\n\nLink zum Tip: \nZu den Gratis-in-Berlin Angeboten: http://www.gratis
 -in-berlin.de\n
DTSTART;VALUE=DATE:20260421
DTEND;VALUE=DATE:20260422
SUMMARY:Gut zu Fuß in Tempelhof-Schöneberg? Geht so? Oder geht das besser?
END:VEVENT
END:VCALENDAR
