BEGIN:VCALENDAR
VERSION:2.0
PRODID:-//Gratis-in-Berlin//NONSGML kigkonsult.se iCalcreator 2.14//
METHOD:PUBLISH
X-WR-CALNAME:Gratis-in-Berlin Tip Kalender
X-WR-CALDESC:Erhalte Gratis-in-Berlin Tips in deinem Kalender
BEGIN:VEVENT
UID:20260421T151513UTC-7682Tbeb0R@Gratis-in-Berlin
DTSTAMP:20260421T151513Z
DESCRIPTION:'Ask the Rabbi' - Jüdische Perspektiven im Dialog in der Jüdischen Gemein
 de Chabad BerlinDer Workshop vermittelt grundlegende Kenntnisse über den jüdischen K
 alender und seine Struktur. Er führt durch die wichtigsten Stationen des Jahres
 \, von Rosch HaSchana über Pessach bis Tischa beAv\, und beleuchtet sowohl dere
 n geschichtliche Hintergründe als auch ihre heutige Bedeutung im Alltag jüdischer Co
 mmunities.Im Dialog mit Rabbinern werden persönliche Zugänge eröffnet und erlebbar
  gemacht\, wie religiöse Traditionen Identität stiften\, Alltag prägen und Gemein
 schaft formen. Der Kurs schafft Raum für Fragen\, Perspektivwechsel und lebendi
 ge Begegnung mit der jüdischen Kultur.Lernziel: Der direkte Austausch mit den R
 abbinern David Teichtal und Mendel Brandwine ermöglicht Einblicke in jüdische Trad
 itionen\, Werte und Sichtweisen. Er bietet einen Raum für offene Fragen und trägt
  zum interreligiösen Verständnis und gesellschaftlichen Zusammenhalt bei.Ort: P
 ears Jüdischer CampusWestfälische Str. 1510709 BerlinAm Eingang findet eine Perso
 nenkontrolle statt.Bitte kurz per E-Mail anmelden.\n\nViel Spass wünscht Gratis
 -in-Berlin\n\nLink zum Tip: \nZu den Gratis-in-Berlin Angeboten: http://ww
 w.gratis-in-berlin.de\n
DTSTART;VALUE=DATE:20260524
DTEND;VALUE=DATE:20260525
SUMMARY:Workshop Das jüdische Jahr - Inhalt\, Praxis und gelebtes Miteinander
END:VEVENT
END:VCALENDAR
