BEGIN:VCALENDAR
VERSION:2.0
PRODID:-//Gratis-in-Berlin//NONSGML kigkonsult.se iCalcreator 2.14//
METHOD:PUBLISH
X-WR-CALNAME:Gratis-in-Berlin Tip Kalender
X-WR-CALDESC:Erhalte Gratis-in-Berlin Tips in deinem Kalender
BEGIN:VEVENT
UID:20260421T102216UTC-7576BNlAvV@Gratis-in-Berlin
DTSTAMP:20260421T102216Z
DESCRIPTION:In diesem Workshop werfen wir einen alltagsnahen Blick auf zent
 rale Begriffe rund um Vielfalt: Was bedeuten sie ? und was haben sie mit m
 ir zu tun? Gemeinsam erkunden wir\, wie unsere Wahrnehmung und unser Verha
 lten mit Themen wie Zugehörigkeit\, Inklusion oder Diskriminierung zusammenhäng
 en. In interaktiven Übungen und Reflexionsrunden entdecken Sie\, was Vielfa
 lt im eigenen Alltag oder im beruflichen Kontext bedeuten kann ? und wie e
 in respektvoller und bewusster Umgang gelingen kann.Das erwartet Sie:? Zen
 trale Begriffe wie Diversität\, Inklusion\, Diskriminierung\, Privileg\, Int
 ersektionalität verstehen? Eigene Perspektiven und Erfahrungen reflektieren?
  Sensibilität im Umgang mit Vielfalt entwickelnDieser Workshop richtet sich 
 an alle\, die Vielfalt besser verstehen und mit Offenheit\, Respekt und Ne
 ugier auf sich selbst und andere blicken möchten ? unabhängig von Vorwissen ode
 r Hintergrund.\n\nViel Spass wünscht Gratis-in-Berlin\n\nLink zum Tip: \nZu den
  Gratis-in-Berlin Angeboten: http://www.gratis-in-berlin.de\n
DTSTART;VALUE=DATE:20260611
DTEND;VALUE=DATE:20260612
SUMMARY:Diversität\, Inklusion\, Intersektionalität - was steckt hinter diesen 
 Begriffen?
END:VEVENT
END:VCALENDAR
