BEGIN:VCALENDAR
VERSION:2.0
PRODID:-//Gratis-in-Berlin//NONSGML kigkonsult.se iCalcreator 2.14//
METHOD:PUBLISH
X-WR-CALNAME:Gratis-in-Berlin Tip Kalender
X-WR-CALDESC:Erhalte Gratis-in-Berlin Tips in deinem Kalender
BEGIN:VEVENT
UID:20260419T184230UTC-49266EIf2d@Gratis-in-Berlin
DTSTAMP:20260419T184230Z
DESCRIPTION:Wir arbeiten mit dem Thema Stillleben auf kreative und entspann
 te Weise. Das bedeutet: Wir nutzen alles\, was verfügbar ist\, als Inspiration.
  Zum Beispiel Verpackungen\, Obst oder andere Lebensmittel\, Flaschen\, Va
 sen\, Blumen\, Bücher\, Küchenutensilien\, Spielzeug oder auch persönliche Gegenstände\, 
 die die Teilnehmenden mitbringen oder die wir vor Ort finden.Die Idee ist\
 , gemeinsam leicht und spielerisch zu arbeiten.Wir zeichnen\, vereinfachen
  Formen\, arbeiten mit Farben und gestalten am Ende eine Collage. So entst
 eht das eigene Stillleben jeder Person.Es geht nicht darum\, etwas perfekt
  zu machen\, sondern darum\, zu experimentieren\, zu entdecken und den kre
 ativen Prozess zu genießen.Der Workshop ist für Kinder und Erwachsene geeignet. 
 Es sind keine Vorkenntnisse nötig\, nur die Lust\, gemeinsam kreativ zu sein 
 und Spaß zu haben.\n\nViel Spass wünscht Gratis-in-Berlin\n\nLink zum Tip: \nZu 
 den Gratis-in-Berlin Angeboten: http://www.gratis-in-berlin.de\n
DTSTART;VALUE=DATE:20260423
DTEND;VALUE=DATE:20260424
SUMMARY:Modernes Stillleben: Formen\, Farben und Collage. Workshop mit Luci
 la Viera
END:VEVENT
END:VCALENDAR
