BEGIN:VCALENDAR
VERSION:2.0
PRODID:-//Gratis-in-Berlin//NONSGML kigkonsult.se iCalcreator 2.14//
METHOD:PUBLISH
X-WR-CALNAME:Gratis-in-Berlin Tip Kalender
X-WR-CALDESC:Erhalte Gratis-in-Berlin Tips in deinem Kalender
BEGIN:VEVENT
UID:20260419T170855UTC-1285NPiwlL@Gratis-in-Berlin
DTSTAMP:20260419T170855Z
DESCRIPTION:Gemeinsame Gestaltung und Bepflanzung einer BaumscheibeSa\, 25.
 4.2026\,15.00 ? 18.00 UhrGemeinschaftsgarten wachsenlassen\nLützowstraße 2810785
  BerlinHitze und fehlende Luftfeuchtigkeit bereiten unseren alten Straßenbäum
 en mehr und mehr Probleme. Viele Straßenzüge weisen neben den Bäumen keine weitere
 n grüne Strukturen auf.Bäume an Straßen und Parks spenden Schatten\, wenn sie eine
  gewisse Größe erreicht haben. Im Verbund\, im Wald und im Park\, bieten sie 
 Tieren wertvollen Lebensraum. Staßenbäume hingegen stehen isoliert und sind m
 it diesem Standort extremen Stress ausgesetzt. Wenig Platz für Wurzeln\, verdic
 htete Böden\, regelmäßige Besuche von Hunden\, wenig Regenwassereintrag durch z
 u kleine Baumscheiben. Mit einer durchdachten Bepflanzung von Baumscheiben
  auch in Straßen ist es möglich\, Biodiversität fördern. Aus diesem Grund wollen wi
 r überlegen\, warum eine Bepflanzung der Baumscheiben sinnvoll ist. Wie wir sie
  begrünen können\, welche Anforderungen an Standort und Verkehrssicherungspflicht 
 wichtig sind. Wir werden dies praktisch an den Baumscheiben in der unmitte
 lbaren Nachbarschaft zum Gemeinschaftsgarten wachsenlassen anschauen\, bew
 erten und durch Pflanzung und Aussaat von Standort geeigneten Wildpflanzen
  eine Baumscheibe gestalten.Leitung: Ute Stumm\, Naturgartenplanerin Dpl. 
 Ing.\, Naturgarten e.V.Dieser Workshop im Rahmen unseres Projektes Erlebte
  Vielfalt in der Stadtnatur ist kostenfrei und wird ermöglicht durch die Förderu
 ng von Postcode-Lotterie\n\nViel Spass wünscht Gratis-in-Berlin\n\nLink zum Tip
 : \nZu den Gratis-in-Berlin Angeboten: http://www.gratis-in-berlin.de\n
DTSTART;VALUE=DATE:20260425
DTEND;VALUE=DATE:20260426
SUMMARY:Workshop: Gemeinsame Gestaltung und Bepflanzung einer Baumscheibe
END:VEVENT
END:VCALENDAR
