BEGIN:VCALENDAR
VERSION:2.0
PRODID:-//Gratis-in-Berlin//NONSGML kigkonsult.se iCalcreator 2.14//
METHOD:PUBLISH
X-WR-CALNAME:Gratis-in-Berlin Tip Kalender
X-WR-CALDESC:Erhalte Gratis-in-Berlin Tips in deinem Kalender
BEGIN:VEVENT
UID:20260421T133758UTC-2746zBLT0J@Gratis-in-Berlin
DTSTAMP:20260421T133758Z
DESCRIPTION:Sind Sie auf der Suche nach Klarheit und Sinn in Ihrem beruflic
 hen Leben?In dieser Veranstaltung stellen wir Ihnen mit IKIGAI einen Leitf
 aden vor\, der es Ihnen ermöglicht\, Ihre eigenen Zufriedenheitsfaktoren für die B
 erufswelt kennenzulernen und entsprechende Entscheidungen zu treffen.Im be
 ruflichen Kontext beschreibt IKIGAI den Schnittpunkt von vier zentralen Fr
 agen:1. Was liebe ich? (Leidenschaft)2. Worin bin ich gut? (Fähigkeiten)3. W
 as braucht die Welt? (Sinn/Beitrag)4. Wofür kann ich bezahlt werden? (Wert/Mark
 t)Im Anschluss ab ca. 19:30 Uhr steht die oder der Referent*in für Fragen zu IK
 IGAI sowie der Berufsberatung für Erwachsene generell zur Verfügung.&lt\;br&gt\;Einz
 elberatung kann vereinbart werden.Der Vortrag findet in Kooperation mit de
 r Bundesagentur für Arbeit statt.Bitte melden Sie sich über die vhs an.\n\nViel Spas
 s wünscht Gratis-in-Berlin\n\nLink zum Tip: \nZu den Gratis-in-Berlin Angeboten
 : http://www.gratis-in-berlin.de\n
DTSTART;VALUE=DATE:20260422
DTEND;VALUE=DATE:20260423
SUMMARY:Ikigai - Wofür es sich lohnt\, morgens aufzustehen
END:VEVENT
END:VCALENDAR
