BEGIN:VCALENDAR
VERSION:2.0
PRODID:-//Gratis-in-Berlin//NONSGML kigkonsult.se iCalcreator 2.14//
METHOD:PUBLISH
X-WR-CALNAME:Gratis-in-Berlin Tip Kalender
X-WR-CALDESC:Erhalte Gratis-in-Berlin Tips in deinem Kalender
BEGIN:VEVENT
UID:20260419T153622UTC-4953dm25Sh@Gratis-in-Berlin
DTSTAMP:20260419T153622Z
DESCRIPTION:Möchten Sie Ihre eigenen Stärken entdecken und herausfinden\, welche
 r Beruf wirklich zu Ihnen passt?In dieser Veranstaltung beschäftigen wir uns
  damit\, Ihre persönlichen Stärken und Fähigkeiten zu erkennen und sie mit möglichen
  beruflichen Wegen zu verbinden.Ziel ist es\, ein besseres Verständnis dafür zu e
 ntwickeln\, was Sie gut können\, was Ihnen Freude macht und wie Sie diese Tal
 ente in Ihrer beruflichen Zukunft einsetzen können.Im Anschluss ab ca. 19:30 
 Uhr steht die oder der Referent*in für Fragen zu 'Was macht mich besonders' sow
 ie der Berufsberatung für Erwachsene generell zur Verfügung.Einzelberatung kann vere
 inbart werden.Der Vortrag findet in Kooperation mit der Bundesagentur für Arbei
 t statt.Bitte melden Sie sich über die vhs an.\n\nViel Spass wünscht Gratis-in-Berli
 n\n\nLink zum Tip: \nZu den Gratis-in-Berlin Angeboten: http://www.gratis-
 in-berlin.de\n
DTSTART;VALUE=DATE:20260527
DTEND;VALUE=DATE:20260528
SUMMARY:Was macht mich besonders? Erkennen Sie Ihre Stärken
END:VEVENT
END:VCALENDAR
