BEGIN:VCALENDAR
VERSION:2.0
PRODID:-//Gratis-in-Berlin//NONSGML kigkonsult.se iCalcreator 2.14//
METHOD:PUBLISH
X-WR-CALNAME:Gratis-in-Berlin Tip Kalender
X-WR-CALDESC:Erhalte Gratis-in-Berlin Tips in deinem Kalender
BEGIN:VEVENT
UID:20260421T133756UTC-5519TS0dNz@Gratis-in-Berlin
DTSTAMP:20260421T133756Z
DESCRIPTION:Im Februar 2026 wurde Berlins Infrastruktur wie noch nie zuvor 
 angegriffen. Das Ausmaß war erheblich. Im Südwesten der Stadt funktionierten Str
 om\, Heizung und die gesamte IT nicht mehr. Ein tagelanger Blackout war di
 e Folge\, bei dem Tausende Berliner bei Minusgraden überleben mussten. Die Angr
 eifer? Die linksextreme »Vulkangruppe« hat sich dazu bekannt. Analysten spre
 chen von starken Indizien Richtung Russland\, das schon länger unsere kritis
 che Infrastruktur ins Visier nimmt.Eine ausgelobte Belohnung von einer Mil
 lion Euro von Bundesinnenminister Alexander Dobrindt brachte keinen Durchb
 ruch aufder Suche nach den Tätern. Zum großen Lagebild kommen vermehrte Attac
 ken und Spionage in Europa hinzu ? vermutet wird\, dass bei vielen der Vor
 fälle Russland oder China dahinterstecken.Was ist zu tun\, um unsere kritisc
 he Infrastruktur effektiv in der Zukunft zu schützen? Welche Konzepte werden di
 skutiert\, um unsere Gesellschaft vor den zunehmenden Gefahren sicher zu m
 achen? Berlin ist durch den aktuellen Anschlag zu einem Beispiel für eine ernst
 eBedrohungslage geworden. Ein Muster für disruptive Kriegsführung\, auch über die Grenzen
  hinaus?TEILNEHMERFranziska Giffey\, Senatorin für Wirtschaft\, Energie und Bet
 riebe\, BürgermeisterinDr. Barbara Slowik Meisel\, Polizeipräsidentin Berlin (ang
 efragt)Karsten Göwecke\, Leitender Branddirektor BerlinDr. Matthias Schulze\,
  IFSHMODERATIONBernd Palenda\, Verfassungsschutz a.D.\n\nViel Spass wünscht Gra
 tis-in-Berlin\n\nLink zum Tip: \nZu den Gratis-in-Berlin Angeboten: http:/
 /www.gratis-in-berlin.de\n
DTSTART;VALUE=DATE:20260526
DTEND;VALUE=DATE:20260527
SUMMARY:Anschläge auf das Berliner Stromnetz - Ein Muster für disruptive Kriegsführung?
END:VEVENT
END:VCALENDAR
