BEGIN:VCALENDAR
VERSION:2.0
PRODID:-//Gratis-in-Berlin//NONSGML kigkonsult.se iCalcreator 2.14//
METHOD:PUBLISH
X-WR-CALNAME:Gratis-in-Berlin Tip Kalender
X-WR-CALDESC:Erhalte Gratis-in-Berlin Tips in deinem Kalender
BEGIN:VEVENT
UID:20260421T151533UTC-4443aF6oNB@Gratis-in-Berlin
DTSTAMP:20260421T151533Z
DESCRIPTION:»Egal\, was Putin machte\, die deutsche Wirtschaft blieb unantas
 tbar!« Die renommierte Wirtschaftsjournalistin Birgit Jennen attestiert Deu
 tschland ein »sehr blindes Exportmodell« ? bis heute. Wladimir Putin habe di
 esen Kurs genutzt. Spätestens seit 2014 mit der Krim-Annexion und Beginn des
  Kriegs im Donbass war ein Problem mit Russland offensichtlich. Deutschlan
 d handelte aber munter weiter mit Russland. Hatte die Wirtschaft da zu sta
 rken Einfluss auf diedeutsche Politik? fragt Birgit Jennen in ihrem aktuel
 len Buch. Die Autorin zeigt auf\, wie Deutschlands Wirtschaft teils gegen 
 Sicherheitsinteressen handelte\, die Politik beeinflusste ? und dabei auch
  Unterstützung von ehemaligen hochrangigen Polizei- und Geheimdienstleuten hatt
 e.Wirtschaftliche Verflechtungen mit Russland gebe es schon sehr lange. Di
 e brisante Frage sei aber\, wann die Verbindungen zur Sicherheitsgefahr wu
 rden. Das Buch ergänzt die Diskussion um institutionelles und politisches Ve
 rsagen um die ökonomischen und finanziellen Verflechtungen\, die politische E
 ntscheidungen über Jahre hinweg beeinflusst und Auswirkungen auf den Sicherheit
 sbereich hatten. Auch hier werden Verbindungen zu dem flüchtigen Wirecard-Manag
 ers und Putin-Agenten Jan Marsalek sichtbar und aufgearbeitet.Irgendjemand
 em gefiel das Buchprojekt womöglich nicht: Plötzlich häuften sich seltsame Vorkomm
 nisse: E-Mails verschwanden\, zweimal stand der Kofferraum ihres Autos off
 en\, ein Gast aus Bulgarien verwüstete ihre Ferienwohnung. Aufgeklärt hat sich di
 ese Angelegenheit nicht. Klar ist aber: Jennens Erkenntnisse sind durchaus
  brisant.TEILNEHMERBirgit Jennen Journalistin\, AutorinMODERATIONProf. Dr.
  Helmut Müller-Enbergs\, Politologe\n\nViel Spass wünscht Gratis-in-Berlin\n\nLink z
 um Tip: \nZu den Gratis-in-Berlin Angeboten: http://www.gratis-in-berlin.d
 e\n
DTSTART;VALUE=DATE:20260623
DTEND;VALUE=DATE:20260624
SUMMARY:Putins Marionetten. Das geheime Netzwerk der deutschen Wirtschaft
END:VEVENT
END:VCALENDAR
