BEGIN:VCALENDAR
VERSION:2.0
PRODID:-//Gratis-in-Berlin//NONSGML kigkonsult.se iCalcreator 2.14//
METHOD:PUBLISH
X-WR-CALNAME:Gratis-in-Berlin Tip Kalender
X-WR-CALDESC:Erhalte Gratis-in-Berlin Tips in deinem Kalender
BEGIN:VEVENT
UID:20260421T135309UTC-2139J6TDL3@Gratis-in-Berlin
DTSTAMP:20260421T135309Z
DESCRIPTION:Der 1956 gegründete Bundesnachrichtendienst (BND) steht vor der größten
  Reform seiner Geschichte. Das Ziel: vom defensiven zum operativen Dienst.
  Grund ist die gestiegene Bedrohung unter anderem durch Russland. Das Kanz
 leramt will aber auch die Abhängigkeit von US-amerikanischen Geheimdiensten 
 verringern. Bisher durfte der BND nur Informationen beschaffen und analysi
 eren.Der BND soll künftig deutlich mehr Handlungsmöglichkeiten erhalten. Dazu gehören
  etwa Sabotageaktionen\, um gegnerische Streitkräfte zu schwächen\, sowie den 
 Internetverkehr zu überprüfen\, der von Deutschland aus ins Ausland verläuft. Daten könne
 n mit künstlicher Intelligenz ausgewertet und Gesichtserkennungssoftware soll e
 ingesetzt werden. Gestattet soll dem Auslandsnachrichtendienst auch Hackin
 g\, Hackbacks und Cyberangriffe. Er soll zudem selbst Drohnen über seinen Liege
 nschaften mit »geeigneten Mitteln« abwehren dürfen. Auch in Wohnungen darf der Di
 enst künftig eindringen\, um Spionagetechnik zu installieren\, oder Gerätschaften
 \, wie z. B. Waffenteile\, heimlich zu manipulieren und zu sabotieren\, um
  sie unschädlich zu machen. Informanten und Spione sollen künftig im Ausland auch
 gewisse Straftaten begehen dürfen.Bedenkenträger und Sorgen gibt es wegen dem Ein
 satz von KI ? aber auch wegen dem möglichen Einsatz der US-amerikanischen Pol
 izeisoftware Palantir. Damit bestehe die Gefahr\, dass Daten in die USA ab
 fließen. Vorhang auf für viele Fragen an unsere Experten zu unserer künftigen Sicherh
 eit!VERANSTALTUNG IN KOOPERATION MIT DEM GKND E. V.TEILNEHMERFlorian Flade
 \, InvestigativjournalistBernd Palenda\, Verfassungsschutz a.D.MODERATIOND
 r. Gerhard Conrad\, BND a.D.\n\nViel Spass wünscht Gratis-in-Berlin\n\nLink zum
  Tip: \nZu den Gratis-in-Berlin Angeboten: http://www.gratis-in-berlin.de
 \n
DTSTART;VALUE=DATE:20260625
DTEND;VALUE=DATE:20260626
SUMMARY:Das neue BND-Gesetz: Mehr Sabotage\, mehr Überwachen\, mehr Hacken
END:VEVENT
END:VCALENDAR
