BEGIN:VCALENDAR
VERSION:2.0
PRODID:-//Gratis-in-Berlin//NONSGML kigkonsult.se iCalcreator 2.14//
METHOD:PUBLISH
X-WR-CALNAME:Gratis-in-Berlin Tip Kalender
X-WR-CALDESC:Erhalte Gratis-in-Berlin Tips in deinem Kalender
BEGIN:VEVENT
UID:20260419T153723UTC-1625tSa78u@Gratis-in-Berlin
DTSTAMP:20260419T153723Z
DESCRIPTION:Die Zukunft ist ungewiss ? aber wir können sie gestalten. Wie das 
 geht\, erfahrt ihr an diesem Open Lab Abend. Ihr lernt die Methode Human C
 entered Design kennen\, mit der wir komplexe Probleme kreativ und lösungsorie
 ntiert angehen können.Human Centered Design stellt den Menschen in den Mittel
 punkt des Innovationsprozesses. Ziel ist es\, Lösungen zu entwickeln\, die wi
 rklich gebraucht werden. In diesem Workshop tauchen wir tief in die Frages
 tellung ein\, entwickeln Empathie für verschiedene Perspektiven und gestalten e
 rste Prototypen für eine klimafreundlichere Landwirtschaft.Inhaltlich werden wi
 r uns mit der Frage beschäftigen\, wie Landwirtschaft klimafreundlicher werd
 en kann\, ohne die Ernährungssicherheit zu gefährden.Die Landwirtschaft ist gl
 eichzeitig Verursacherin und Betroffene des Klimawandels. Sie muss sich an
 passen\, um weiterhin stabile Erträge zu sichern ? und gleichzeitig Wege fin
 den\, selbst einen Beitrag zum Klimaschutz zu leisten. Im Mittelpunkt steh
 en dabei Ansätze\, die praktikabel\, gerecht und nachhaltig sind.In diesem W
 orkshop blicken wir auf die Landwirtschaft im Jahr 2040:-&gt\; Wie kann si
 ch die Landwirtschaft an klimatische Veränderungen anpassen?-&gt\; Welche po
 litischen Rahmenbedingungen und gesellschaftlichen Veränderungen sind nötig?-&g
 t\; Wie kann Landwirtschaft selbst einen Beitrag zum Klimaschutz leisten?G
 emeinsam entwickeln wir innovative Ideen und gestalten erste Prototypen für ein
 e zukunftsfähige Landwirtschaft.Die Veranstaltung ist Teil der Workshopreihe
  ?Zukünfte gestalten lernen?\, die einmal im Monat im Rahmen des Open Lab Abend
 s stattfindet. In insgesamt vier Modulen lernt ihr fundierte Methoden der 
 Zukunftsgestaltung kennen\, die ihr zu eurem individuellen Zukunfts-Method
 enkoffer zusammenstellen könnt.Was ist ein Open Lab Abend?Jeden Donnerstag wi
 rd es im Lab kreativ. Ihr lernt Methoden wie Design Thinking oder Future S
 torytelling kennen\, könnt 3D-Drucker und Lasercutter ausprobieren und hinter
  die Kulissen der Lab-Projekte schauen. Jede Woche gibt?s was Neues.Worksh
 opleitungDas Berliner Ideenlabor ist ein Labor für Transformationsdesign. Das T
 eam unterstützt Organisationen im Entwurfsprozess von zukunftsfähigen Produkt- un
 d Dienstleistungsinnovationen sowie wünschenswerten Zukunftsbildern mit Methode
 n der Zukunftsforschung\, des Design Thinking und des Visual Storytelling.
 Informationen-&gt\; Veranstaltungsort: Workshop Futurium Lab (-1) -&gt\; E
 intritt: kostenfrei -&gt\; Veranstaltungssprache: Deutsch -&gt\; Max. Teil
 nehmer*innenzahl: 20 Personen -&gt\; Teilnahmebedingungen: keine Vorkenntn
 isse erforderlich -&gt\; Altersempfehlung: ab 16 JahreZugänglichkeit-&gt\; W
 ir sind ein rollstuhlgerechter Veranstaltungsort. -&gt\; Plätze ohne Bestuhl
 ung stehen Rollstuhlfahrer*innen zur Verfügung.Zukunft ist für alle da! Das Futurium
  möchte für alle Menschen zugänglich sein. Wenn es eurerseits weitere Zugangsbedürfnisse 
 gibt\, teilt sie uns gern mit. Wir versuchen\, sie zu erfüllen: info@futurium.d
 eHier findet ihr alle Informationen zur Barrierefreiheit: https://futurium
 .de/de/barrierefreiheitFoto &amp\; VideoWährend der Veranstaltung werden Fot
 os und Videos gemacht. Wenn ihr nicht abgebildet werden wollt\, meldet euc
 h bitte vorab.Tickets -&gt\; Für diese Veranstaltung benötigt ihr ein Ticket. Hier
  gelangt ihr zum Ticketshop:&nbsp\;https://tickets.futurium.de/#/product/e
 vent/940?date=2026-08-27&amp\;date_id=24870&amp\;lang=de -&gt\; Aufgrund d
 er limitierten Plätze kann immer nur ein Ticket pro Person gebucht werden. -
 &gt\; Das Futurium lebt von großen Ideen ? und kleinen Beiträgen. Mit einer S
 pende macht ihr Zukunft möglich! -&gt\; Hier könnt ihr das Futurium unterstützen:&nbs
 p\;https://futurium.de/de/spenden  Foto: Ali Ghandtschi\n\nViel Spass wünscht G
 ratis-in-Berlin\n\nLink zum Tip: \nZu den Gratis-in-Berlin Angeboten: http
 ://www.gratis-in-berlin.de\n
DTSTART;VALUE=DATE:20260827
DTEND;VALUE=DATE:20260828
SUMMARY:Open Lab Abend: Human Centered Design ?  Zukünfte gestalten lernen
END:VEVENT
END:VCALENDAR
