BEGIN:VCALENDAR
VERSION:2.0
PRODID:-//Gratis-in-Berlin//NONSGML kigkonsult.se iCalcreator 2.14//
METHOD:PUBLISH
X-WR-CALNAME:Gratis-in-Berlin Tip Kalender
X-WR-CALDESC:Erhalte Gratis-in-Berlin Tips in deinem Kalender
BEGIN:VEVENT
UID:20260419T161334UTC-8835wMFGXz@Gratis-in-Berlin
DTSTAMP:20260419T161334Z
DESCRIPTION:Das Kollektiv groundtable\, bestehend aus den Künstler*innen Gift La
 licha Lalitsasivimol und Kitman Pik Chee Yeung\, lädt zu einer interaktiven 
 Performance über Essen\, Erinnerung und Zugehörigkeit ein. Gemeinsam erforschen si
 e\, wie kulinarisches Wissen über Grenzen hinweg weitergegeben wird und mit Fra
 gen von Migration und Identität verbunden ist. Anhand von Fragen zu Zutaten\
 , Rezepten und persönlichen Erinnerungen regt die Performance dazu an\, über Gesch
 mack\, Herkunft und gemeinsame Erfahrungen nachzudenken. Aus den Reaktione
 n und Erzählungen der Teilnehmenden entwickelt groundtable einen individuell
 en Snack. So wird Essen als Praxis von Fürsorge\, Empathie und gegenseitigem Ve
 rstehen erfahrbar.BETEILIGTEgroundtable ist ein Kollektiv\, das sich mit d
 er Idee einer universellen kulinarischen Identität sowie den sozio-anthropol
 ogischen Dimensionen des kulinarischen Erbes und der Migration auseinander
 setzt. Es erforscht den Austausch von vertrauten und unbekannten Zutaten\,
  Rezepten\, Geschichten\, Fiktionen und Vorstellungen. Mithilfe partizipat
 iver Methoden wie Workshops und dem Austausch von Rezepten arbeitet das Ko
 llektiv mit lokalen und internationalen Gemeinschaften zusammen. groundtab
 le entstand 2024 in Weimar als Schnittpunkt zweier Künstler*innen: Gift\, gebor
 en und aufgewachsen in Bangkok\, und Kit\, geboren in Hongkong und aufgewa
 chsen in Perth\, Australien.Gift Lalicha Lalitsasivimol (geb. 1997\, Bangk
 ok)Mit einem Hintergrund in Innenarchitektur verbindet Gift forschungsbasi
 erte Ansätze mit kuratorischen Praktiken und aktiviert das Publikum durch pa
 rtizipative Methoden und räumliche Erzählungen.Kitman Pik Chee Yeung (geb. 199
 9\, Hongkong)Als interdisziplinäre*r Künstler*in mit einem Hintergrund in den Neu
 rowissenschaften erforscht Kit Fragen der Identität durch öffentliche Intervent
 ionen und partizipative Projekte\, die oft im Kontext von Migration angesi
 edelt sind.H?i Nam Nguy?n ist ein vietnamesischer unabhängiger Kurator und F
 orscher\, der zwischen Deutschland und Vietnam arbeitet. Seine Praxis besc
 häftigt sich mit südostasiatischer Kunst\, der Geschichte der ehemaligen DDR und 
 ihren Vertragsarbeiter*innen sowie den Solidaritätsbewegungen unter den sozi
 alistischen ?Bruderländern? der ehemaligen DDR. 2019 wurde ihm das Kurator*i
 nnen-Stipendium der Kulturstiftung des Freistaates Sachsen verliehen. Nguy
 ?n hat Ausstellungen kuratiert und zu Forschungsprojekten an Institutionen
  wie dem Museum für zeitgenössische Kunst Leipzig (GfZK)\, dem Haus der Kulturen d
 er Welt Berlin\, dem Schwulen Museum Berlin\, der RMIT University Vietnam 
 und der Universität Erfurt beigetragen. Derzeit ist er Gastkurator am Museum
  für Asiatische Kunst im Humboldt Forum.Pham\, Minh Duc ist ein in Berlin leben
 der Künstler\, dessen Praxis aus künstlerischer Forschung zu Arbeitsmigration\, Erin
 nerung und Körperpolitik entsteht. Durch Skulptur\, Installation und Performa
 nce untersucht er\, wie soziale Normen sowie Fürsorge- und Kontrollregime sich 
 in Objekten\, Textilien und alltäglichen Gesten materialisieren. Florale Mot
 ive\, industrielle Referenzen und fragile Präsentationsstrukturen kehren dab
 ei als Träger von Ambivalenz zwischen Zärtlichkeit und Widerstand\, Bewahrung 
 und Auslöschung wieder ? Räume\, in denen gemeinsame Geschichten neu gelesen un
 d neu verhandelt werden können. Seine Arbeiten wurden unter anderem im Haus d
 er Kulturen der Welt Berlin\, der Kunsthalle Osnabrück\, dem Museum Utopie und 
 Alltag Eisenhüttenstadt sowie dem Museum der bildenden Künste Leipzig gezeigt.Preis:
  kostenfreiOrt: Mechanische Arena im Foyergehört zu: Schicksal oder Wahl? und
  Beziehungsweise Familie\n\nViel Spass wünscht Gratis-in-Berlin\n\nLink zum Tip
 : \nZu den Gratis-in-Berlin Angeboten: http://www.gratis-in-berlin.de\n
DTSTART;VALUE=DATE:20260501
DTEND;VALUE=DATE:20260502
SUMMARY:Kochbox. Ein interaktiver Geschmacks-Dialog
END:VEVENT
END:VCALENDAR
