BEGIN:VCALENDAR
VERSION:2.0
PRODID:-//Gratis-in-Berlin//NONSGML kigkonsult.se iCalcreator 2.14//
METHOD:PUBLISH
X-WR-CALNAME:Gratis-in-Berlin Tip Kalender
X-WR-CALDESC:Erhalte Gratis-in-Berlin Tips in deinem Kalender
BEGIN:VEVENT
UID:20260421T115057UTC-0949mMkE7a@Gratis-in-Berlin
DTSTAMP:20260421T115057Z
DESCRIPTION:Wir diskutieren am 06.05 im Café Sibylle über Planetare Grenzen und fr
 euen uns über euer erscheinen.&nbsp\;Es wird vor Ort auch gratis Linsensuppe vo
 n der Küfa geben.\nUnsere Erde hat biophysikalische Grenzen. Deren Überschreitun
 g macht nicht nur das Leben auf unserem Planeten schwerer. Tatsächlich sind 
 die Schwere der Konsequenzen unklar. Die Bewohnbarkeit steht auf dem Spiel
  und die Politik handelt nicht. Aber warum ist das so? Welche Barrieren gi
 bt es für nachhaltiges Handeln? Und warum kann nur eine linke Partei Antworten 
 auf das größte Problem der Menschheit geben? Es diskutieren Dr. Didem Aydurmu
 s und der Bundestagsabgeordnete Dr. Fabian Fahl. Beide haben im Bereich Kl
 ima promoviert und bringen gemeinsam mit der Moderation Marcus Otto\, Kand
 idat fürs Abgeordnetenhaus und Mitglied im Sprecher*innenrat der Ökologischen Pl
 attform\, mehrere Jahrzehnte Erfahrung und Wissen mit. Anlass für unser Gespräch 
 ist der deutsche Earth Overshoot Day (Erdüberlastungstag)\, der Tag\, an dem wi
 r alle Ressourcen aufgebraucht haben\, die Deutschland pro Jahr zur Verfügung s
 tehen.Kommt vorbei zu unserem Austausch im&nbsp\;Café Sibylle. Wir freuen un
 s auf euch :)\n\nViel Spass wünscht Gratis-in-Berlin\n\nLink zum Tip: \nZu den 
 Gratis-in-Berlin Angeboten: http://www.gratis-in-berlin.de\n
DTSTART;VALUE=DATE:20260506
DTEND;VALUE=DATE:20260507
SUMMARY:Die Planetaren Grenzen - Ein Gespräch über Kapitalismus\, Politik und Wiss
 enschaft
END:VEVENT
END:VCALENDAR
