BEGIN:VCALENDAR
VERSION:2.0
PRODID:-//Gratis-in-Berlin//NONSGML kigkonsult.se iCalcreator 2.14//
METHOD:PUBLISH
X-WR-CALNAME:Gratis-in-Berlin Tip Kalender
X-WR-CALDESC:Erhalte Gratis-in-Berlin Tips in deinem Kalender
BEGIN:VEVENT
UID:20260421T163601UTC-3993dn9Zt0@Gratis-in-Berlin
DTSTAMP:20260421T163601Z
DESCRIPTION:Das Stadtteilzentrum Pankow feiert Nachbarschaft ? und die Verb
 raucherzentrale Berlin ist mit dabeiDas Projekt ?Berlin is(s)t klimafreund
 lich? informiert an einem Infostand über Maßnahmen gegen Lebensmittelverschwendu
 ng. Eine steht auch gleich vor Ort: An der Lebensmittel-Verteilstation können
  genießbare Lebensmittel mit der Nachbarschaft geteilt werden. Wer wissen m
 öchte\, wie das Tauschen von Lebensmitteln funktioniert\, hat hier Gelegenhei
 t\, alles darüber zu erfahren. Im Rahmen des Nachbarschaftsfests warten auch we
 itere Kreativangebote sowie Kaffee und Kuchen auf die Besucher*innen.\n\nV
 iel Spass wünscht Gratis-in-Berlin\n\nLink zum Tip: \nZu den Gratis-in-Berlin A
 ngeboten: http://www.gratis-in-berlin.de\n
DTSTART;VALUE=DATE:20260529
DTEND;VALUE=DATE:20260530
SUMMARY:Infostand: Lebensmittelverschwendung? Nicht mit uns!
END:VEVENT
END:VCALENDAR
