BEGIN:VCALENDAR
VERSION:2.0
PRODID:-//Gratis-in-Berlin//NONSGML kigkonsult.se iCalcreator 2.14//
METHOD:PUBLISH
X-WR-CALNAME:Gratis-in-Berlin Tip Kalender
X-WR-CALDESC:Erhalte Gratis-in-Berlin Tips in deinem Kalender
BEGIN:VEVENT
UID:20260421T183252UTC-4375MJu5RN@Gratis-in-Berlin
DTSTAMP:20260421T183252Z
DESCRIPTION:Meet and Greet auf der Seewiese der Humboldt-Bibliothek (16 bis
  18 Uhr)!Treffen Sie die Deutsche Wildtier Stiftung bei einer offenen Kaff
 ee-und-Kuchen-Runde und lernen Sie mehr über das Leben der Wildbienen und ander
 er Insekten. Freuen Sie sich auf den Start der Hummel-Rallye in Tegel und 
 einer Führung durch die Wildbienen-Wanderausstellung.\n\nViel Spass wünscht Gratis-i
 n-Berlin\n\nLink zum Tip: \nZu den Gratis-in-Berlin Angeboten: http://www.
 gratis-in-berlin.de\n
DTSTART;VALUE=DATE:20260522
DTEND;VALUE=DATE:20260523
SUMMARY:Offener Wildbienen-Nachmittag mit der Deutschen Wildtier Stiftung
END:VEVENT
END:VCALENDAR
