BEGIN:VCALENDAR
VERSION:2.0
PRODID:-//Gratis-in-Berlin//NONSGML kigkonsult.se iCalcreator 2.14//
METHOD:PUBLISH
X-WR-CALNAME:Gratis-in-Berlin Tip Kalender
X-WR-CALDESC:Erhalte Gratis-in-Berlin Tips in deinem Kalender
BEGIN:VEVENT
UID:20260421T184551UTC-2929SeVKus@Gratis-in-Berlin
DTSTAMP:20260421T184551Z
DESCRIPTION:Cyber Security Kommunikation ? Warum technische Sicherheit ohne
  psychologische Sicherheit scheitert\n\nSie sind herzlich eingeladen zu di
 esem Online-Forum des Netzwerkes Informationstechnik FIT\, wenn Sie verste
 hen möchten\, warum Cybersicherheit heute weniger ein technisches als ein kom
 munikatives Problem ist.\n\nCyberangriffe sind längst keine rein technischen
  Vorgänge mehr. Durch KI-gestützte Phishing-Mails\, realistisch klingende Deepfak
 e-Stimmen und perfekt personalisierte Betrugsversuche entsteht eine neue A
 ngriffsrealität\, in der Menschen unter Zeit- und Entscheidungsdruck operier
 en. Genau hier wird Kommunikation zum zentralen Sicherheitsfaktor.Im Mitte
 lpunkt dieser Veranstaltung steht die Frage\, wie Cyber Security Kommunika
 tion gestaltet werden muss\, damit sie im entscheidenden Moment wirkt. Den
 n Sicherheit entsteht nicht durch Policies\, Checklisten oder Schulungen ?
  sondern dadurch\, wie Menschen Informationen wahrnehmen\, Entscheidungen 
 treffen und im Stress reagieren. Fehlerkultur\, Risikobewusstsein\, psycho
 logische Sicherheit und klare Kommunikationsstrukturen sind dabei ebenso r
 elevant wie technische Schutzmaßnahmen.Silvia Hildebrandt\, Expertin für IT-Psyc
 hologie und Krisenkommunikation\, gibt einen praxisnahen Einblick in die p
 sychologischen Mechanismen hinter Sicherheitsvorfällen und zeigt\, wie Unter
 nehmen ihre Kommunikationsarchitektur so aufbauen\, dass Mitarbeitende Ang
 riffe erkennen\, melden und souverän handeln können.\n\nDer Vortrag bietet real
 istische Einblicke aus der Praxis und konkrete Impulse für Entscheider\, die ih
 re Organisation widerstandsfähiger machen möchten.Wir freuen uns auf Ihre Teiln
 ahme!\n\nIhr Forum Informationstechnik im VDI Berlin-Brandenburg\n\nVortra
 gende: Silvia Hildebrandt\n\nBild:&nbsp\;Westend61 via Gettyimages\n\nViel
  Spass wünscht Gratis-in-Berlin\n\nLink zum Tip: \nZu den Gratis-in-Berlin Ange
 boten: http://www.gratis-in-berlin.de\n
DTSTART;VALUE=DATE:20260518
DTEND;VALUE=DATE:20260519
SUMMARY:FIT-Online: Warum technische Sicherheit ohne psychologische Sicherh
 eit scheitert
END:VEVENT
END:VCALENDAR
