BEGIN:VCALENDAR
VERSION:2.0
PRODID:-//Gratis-in-Berlin//NONSGML kigkonsult.se iCalcreator 2.14//
METHOD:PUBLISH
X-WR-CALNAME:Gratis-in-Berlin Tip Kalender
X-WR-CALDESC:Erhalte Gratis-in-Berlin Tips in deinem Kalender
BEGIN:VEVENT
UID:20260422T120923UTC-0110U9VOj1@Gratis-in-Berlin
DTSTAMP:20260422T120923Z
DESCRIPTION:Für alle\, die wissen möchten\, warum Kreuzberg in den 1980er Jahren de
 r bekannteste Bezirk Berlins war und bis heute etwas ?Besonderes? istin de
 utscher Sprache Tour II: ?Kreuzberg heute und in den 80ern? Treffpunkt: Or
 anienplatz\, am Drachenbrunnen an der nördl. Seite des PlatzesEnde: Kottbusse
 r Brücke Nach dem Spaziergang wisst ihr ... ? warum die Mauer am 1. Mai 1980 am
  Oranienplatz fiel ? wer eine Mauer auf der Kottibrücke errichtet hat und warum
  ? warum und wie gegen Gentrifizierung und Zwangsräumungen gekämpft wurde bzw.
  wird ... und Vieles mehr. Durch Geschichten und Erinnerungen an eine Ära d
 es sozialen Wandels und politischen Engagements eröffnen die Touren ein Verst
 ändnis für die Wurzeln des Bezirks\, die noch heute lebendig sind. Andy\, waschec
 hter Kreuzberger\, ?ü60? und seit 20 Jahren im Regenbogenfabrikkollektiv\, wird
  euch durch SO36 führen und versuchen\, euch ?das Gefühl und das Leben damals? nahe 
 zu bringen. Wir werden Orte\, Häuser und Plätze von ?damals? besuchen und teil
 weise wird dort auch heute noch das ?Damals? lebendig gehalten.\nFotos sow
 ie persönliche Erlebnisse und Geschichten ergänzen die historischen Fakten und 
 verleihen den Spaziergängen eine ganz persönliche Note. Preis pro Person: 12\,0
 0 ? bis 18\,00 ? ? nach Selbsteinschätzung max. 15 Teilnehmer:innen\, mindes
 tens 5 Teilnehmer:innen Vorher bitte per Email verbindlich anmelden: besic
 htigung@regenbogenfabrik.deNächster Termin:Sonntag\, 28.06.2026 um 13:00 Uhr
 \n\n\nViel Spass wünscht Gratis-in-Berlin\n\nLink zum Tip: \nZu den Gratis-in-B
 erlin Angeboten: http://www.gratis-in-berlin.de\n
DTSTART;VALUE=DATE:20260524
DTEND;VALUE=DATE:20260525
SUMMARY:'Kiezspaziergang durch das ?widerständige SO36? ' - Organisiert von d
 er Regenbogenfabrik
END:VEVENT
END:VCALENDAR
