BEGIN:VCALENDAR
VERSION:2.0
PRODID:-//Gratis-in-Berlin//NONSGML kigkonsult.se iCalcreator 2.14//
METHOD:PUBLISH
X-WR-CALNAME:Gratis-in-Berlin Tip Kalender
X-WR-CALDESC:Erhalte Gratis-in-Berlin Tips in deinem Kalender
BEGIN:VEVENT
UID:20260422T141104UTC-7740TvdvCG@Gratis-in-Berlin
DTSTAMP:20260422T141104Z
DESCRIPTION:The front line isn?t only in Ukraine ? it runs through every ne
 wsroom\, parliament and social media feed in Europe. EUkraine: On The Hybr
 id Frontline is a live public event in Berlin that cuts through the noise 
 of competing propaganda machines\, both Western and Russian\, fought not j
 ust with weapons\, but with words\, algorithms and disinformation.Four yea
 rs into the war\, European public opinion is wavering ? and Russia is coun
 ting on it. As Trump?s US support for the Ukrainian cause decreases and na
 tionalist\, anti-EU parties gain ground across the continent\, the battle 
 for democratic values demands an urgent reawakening of European civil soci
 ety.Who benefits from your confusion? Join us for a fact-based\, unfiltere
 d conversation about Ukraine?s fight for sovereignty\, Europe?s strategic 
 future and the critical thinking our democracies urgently need. Because wh
 at happens in Ukraine doesn?t stay in Ukraine. Don?t just watch history ha
 ppen ? understand it.With:Jared Goyette &amp\; Yuliia Taradiuk (Kyiv Indep
 endent)Tonia Mastrobuoni (La Repubblica)Ileana Racheru (Romanian Diplomati
 c Institute) Entry by donation.\n\nViel Spass wünscht Gratis-in-Berlin\n\nLink 
 zum Tip: \nZu den Gratis-in-Berlin Angeboten: http://www.gratis-in-berlin.
 de\n
DTSTART;VALUE=DATE:20260528
DTEND;VALUE=DATE:20260529
SUMMARY:'EUkraine: On the Hybrid Frontline' ? Podiumsdiskussion im Regenbog
 enKino
END:VEVENT
END:VCALENDAR
