BEGIN:VCALENDAR
VERSION:2.0
PRODID:-//Gratis-in-Berlin//NONSGML kigkonsult.se iCalcreator 2.14//
METHOD:PUBLISH
X-WR-CALNAME:Gratis-in-Berlin Tip Kalender
X-WR-CALDESC:Erhalte Gratis-in-Berlin Tips in deinem Kalender
BEGIN:VEVENT
UID:20260422T153853UTC-0298Jm60eu@Gratis-in-Berlin
DTSTAMP:20260422T153853Z
DESCRIPTION:Mit der Gesellschaft für Wissens- und Technologietransfer GmbH steht
  ein erfahrener Partner für industrienahe Forschungs- und Entwicklungsprojekte 
 zur Verfügung\, der Unternehmen bei der Lösung komplexer technischer Fragestellung
 en unterstützt ? von der Idee bis zur praktischen Umsetzung.  In der Online-Ver
 anstaltung geben unsere Gäste\, Jana Ulber und Eva-Maria Steller\, von GWT e
 inen Einblick wie wissenschaftliche Methoden gezielt in industrielle Anwen
 dungen übertragen werden. Im Fokus stehen dabei Kooperationsmodelle zwischen Fo
 rschung und Industrie\, typische Projektabläufe sowie konkrete Anwendungsbei
 spiele aus Bereichen wie Werkstofftechnik\, Fertigung\, Tribologie und Sys
 tementwicklung. Anhand ausgewählter Projekte wird veranschaulicht\, wie inno
 vative Lösungen entstehen\, Entwicklungszeiten verkürzt und technologische Risiken
  reduziert werden können. Darüber hinaus wird aufgezeigt\, welche Möglichkeiten Unter
 nehmen haben\, sich in solche Projekte einzubringen ? sei es im Rahmen von
  Auftragsforschung\, öffentlich geförderten Vorhaben oder strategischen Entwickl
 ungspartnerschaften. Zielgruppe:Die Veranstaltung richtet sich an Ingenieu
 rinnen und Ingenieure\, Fach- und Führungskräfte aus Entwicklung\, Konstruktion u
 nd Produktion sowie an alle\, die an anwendungsnaher Forschung und industr
 ieller Innovation interessiert sind. Insbesondere angesprochen sind Untern
 ehmen\, die ihre Entwicklungsprozesse durch externe Expertise erweitern od
 er neue Technologien schneller in die Praxis überführen möchten.  Vortragende: Fra
 u Jana Ulber und Eva-Maria Steller  Die Teilnahme ist kostenfrei und steht
  auch Nichtmitgliedern offen. Bitte melden Sie sich über den externen Link an.
 \n Bild:&nbsp\;Nitat Temmee via Getty Images\n\nViel Spass wünscht Gratis-in-Be
 rlin\n\nLink zum Tip: \nZu den Gratis-in-Berlin Angeboten: http://www.grat
 is-in-berlin.de\n
DTSTART;VALUE=DATE:20260518
DTEND;VALUE=DATE:20260519
SUMMARY:Innovscout: Der digitale Innovationsscout
END:VEVENT
END:VCALENDAR
