BEGIN:VCALENDAR
VERSION:2.0
PRODID:-//Gratis-in-Berlin//NONSGML kigkonsult.se iCalcreator 2.14//
METHOD:PUBLISH
X-WR-CALNAME:Gratis-in-Berlin Tip Kalender
X-WR-CALDESC:Erhalte Gratis-in-Berlin Tips in deinem Kalender
BEGIN:VEVENT
UID:20260422T155322UTC-6157lduSmD@Gratis-in-Berlin
DTSTAMP:20260422T155322Z
DESCRIPTION:Vortragsreihe: Hochbaukultur aus Deutschland ? TragwerkeDiese V
 ortragsreihe des Instituts für Bauingenieurwesen der Technischen Universität Berl
 in wird von den Fachgebieten 'Entwerfen und Konstruieren ? Verbundstruktur
 en'\, 'Entwerfen und Konstruieren ? Stahlbau' und 'Tragwerkskonstruktionen
  des Hochbaus' organisiert.Anhand ausgewählter und preisgekrönter Hochbauten wi
 rd das Entwerfen und Konstruieren von Tragwerken durch die Ingenieure vorg
 estellt sowiederen Philosophie und Arbeitsweise beim Umgang mit den\, nich
 t nur technischen\, Herausforderungen.Thema: Zwischen Tradition und Innova
 tion: Müther und die Sanierung der Hyparschale MagdeburgReferent*innen: Prof. J
 uliane Wagner &amp\; Marco Schuchert TU Berlin &amp\; CARBOCON GMBH\, Dres
 denDiese Veranstaltung ist eine Kooperationsveranstaltung zwischen der TU 
 Berlin und dem VDI BV-BB Arbeitskreis Bautechnik.Die Teilnahme ist kostenf
 rei und steht auch Nichtmitgliedern offen.Bitte melden Sie sich über den extern
 en Link an.\n\nBild: Pierre Adenis\n\nViel Spass wünscht Gratis-in-Berlin\n\nLi
 nk zum Tip: \nZu den Gratis-in-Berlin Angeboten: http://www.gratis-in-berl
 in.de\n
DTSTART;VALUE=DATE:20260512
DTEND;VALUE=DATE:20260513
SUMMARY:Zwischen Tradition und Innovation: Müther und die Sanierung der Hyparsch
 ale Magdeburg
END:VEVENT
END:VCALENDAR
