BEGIN:VCALENDAR
VERSION:2.0
PRODID:-//Gratis-in-Berlin//NONSGML kigkonsult.se iCalcreator 2.14//
METHOD:PUBLISH
X-WR-CALNAME:Gratis-in-Berlin Tip Kalender
X-WR-CALDESC:Erhalte Gratis-in-Berlin Tips in deinem Kalender
BEGIN:VEVENT
UID:20260423T125103UTC-2422x9W2tg@Gratis-in-Berlin
DTSTAMP:20260423T125103Z
DESCRIPTION:Der VDI-Bezirksverein Berlin-Brandenburg e. V. lädt ein zur Besic
 htigung des Wasserwerks Tegel:  Seien Sie bei der Fortführung der Vortragsreihe
  Wasser als Ressource des Arbeitskreises Biotechnologie dabei und gewinnen
  Sie spannende Einblicke in die Welt der Abwasserreinigung | Wasserversorg
 ung und ihre aktuellen Entwicklungen: Wir möchten Sie am 19.05.2026 um 14 Uhr
  herzlich einladen\, das Wasserwerk in Tegel zu besuchen. Dieser Besuch sc
 hließt an die begonnene Vortragsreihe rund um die Ressource Wasser an. Dabe
 i ist der Wasserkreislauf in den Blick zu nehmen.Im April haben wir die Ob
 erflächenwasseraufbereitungsanlage in Tegel besucht und Informationen darüber erh
 alten\, wie die Spurenstoffe und die verbliebenen Phosphate aus dem Klärwerk
  Schönerlinde und den einmündenden Flüssen entfernt werden. Nun schauen wir uns den nächs
 ten Schritt im Kreislauf an: die Wasseraufbereitung und -versorgung im Was
 serwerk.Die Kolleg:innen der Berliner Wasserbetriebe präsentieren uns die Wa
 sseraufbereitung und aktuelle Herausforderungen. Uns werden die wichtigste
 n Verfahrensschritte der Wasseraufbereitung und -versorgung sowie der aktu
 elle Stand der Technik erläutert.Des Weiteren wird es Raum für Fragen und spannen
 de Diskussionen geben.Wir freuen uns auf zahlreiches Erscheinen. Viele GrüßeMar
 tin Ramos BrizoArbeitskreisleiter Biotechnologie  Vortragende: Dörte Albers  
 Die Teilnahme ist kostenfrei und steht auch Nichtmitgliedern offen.Bitte m
 elden Sie sich über den externen Link an. Bild: Fridolin freudenfett\, CC BY-SA
  4.0\, via Wikimedia Commons\n\nViel Spass wünscht Gratis-in-Berlin\n\nLink zum
  Tip: \nZu den Gratis-in-Berlin Angeboten: http://www.gratis-in-berlin.de
 \n
DTSTART;VALUE=DATE:20260519
DTEND;VALUE=DATE:20260520
SUMMARY:Besichtigung des Wasserwerks Tegel
END:VEVENT
END:VCALENDAR
