BEGIN:VCALENDAR
VERSION:2.0
PRODID:-//Gratis-in-Berlin//NONSGML kigkonsult.se iCalcreator 2.14//
METHOD:PUBLISH
X-WR-CALNAME:Gratis-in-Berlin Tip Kalender
X-WR-CALDESC:Erhalte Gratis-in-Berlin Tips in deinem Kalender
BEGIN:VEVENT
UID:20260423T143619UTC-3727HWjJur@Gratis-in-Berlin
DTSTAMP:20260423T143619Z
DESCRIPTION:Das Trialog?Projekt schafft Gesprächsräume zum Konflikt Israel?Paläst
 ina und unterstützt junge Menschen dabei\, Emotionen\, Fragen und Unsicherheite
 n zu bearbeiten. Zakariyya Meißner und Shai Hoffmann laden in die Amerika?G
 edenkbibliothek ein\, um mit palästinensischen und jüdisch?israelischen Perspekti
 ven ins Gespräch zu kommen: Wie beeinflusst die aktuelle Lage die geopolitis
 che Situation ? und welchen Umgang wünschen wir uns in Deutschland?Das Gespräch i
 st auf 50 Teilnehmende beschränkt. Deswegen freuen wir uns\, wenn Sie rechtz
 eitig erscheinen.\n\nViel Spass wünscht Gratis-in-Berlin\n\nLink zum Tip: \nZu 
 den Gratis-in-Berlin Angeboten: http://www.gratis-in-berlin.de\n
DTSTART;VALUE=DATE:20260626
DTEND;VALUE=DATE:20260627
SUMMARY:Wie sprechen wir über Israel und Palästina?
END:VEVENT
END:VCALENDAR
