BEGIN:VCALENDAR
VERSION:2.0
PRODID:-//Gratis-in-Berlin//NONSGML kigkonsult.se iCalcreator 2.14//
METHOD:PUBLISH
X-WR-CALNAME:Gratis-in-Berlin Tip Kalender
X-WR-CALDESC:Erhalte Gratis-in-Berlin Tips in deinem Kalender
BEGIN:VEVENT
UID:20260423T174346UTC-3225DAPaVe@Gratis-in-Berlin
DTSTAMP:20260423T174346Z
DESCRIPTION:Als VDI-Bezirksverein Berlin-Brandenburg e.V. laden wir Sie her
 zlich zum nächsten Lunch-Talk ein!\n\nInnenräume prägen unser Wohlbefinden\, uns
 ere Konzentration ? und nicht zuletzt unsere Gesundheit. Trotzdem wird ihr
 e Wirkung im technischen Planungs- und Gestaltungsprozess oft unterschätzt. 
 In diesem Lunch Talk werfen wir einen Blick auf das Zusammenspiel von Raum
 klima\, Akustik und Materialwahl ? und wie diese Faktoren zu nachhaltigen\
 , gesunden Arbeitsumgebungen beitragen können. Lennart Hefler beschäftigt sich 
 mit seinem Unternehmen Vertical Nature seit Jahren mit Fragen rund um natürlich
 e Materialien\, raumpsychologische Effekte und biophiles Design. In seinem
  Impuls bringt er Erfahrungswerte aus Projekten\, aktuelle Studienergebnis
 se und technische Perspektiven zusammen. Ziel ist es\, zur Diskussion anzu
 regen:Was macht einen gesunden Innenraum aus ? aus Sicht von Technik und N
 utzer:innen?Welche Rolle können natürliche Gestaltungselemente spielen ? jenseits 
 von Dekoration?Und wie gelingt Transformation auch auf Ebene der gebauten 
 Umgebung?Ein interaktiver Impuls für alle\, die Räume als Teil nachhaltiger Entwi
 cklung verstehen ? und neu denken wollen.\n\nWarum sollten Sie an diesem E
 vent teilnehmen? Hier erwarten Sie:\n- Praxiserfahrungen aus Architektur u
 nd Innenraumgestaltung\n- Kompakter\, interaktiver Austausch mit Raum für Ihre 
 Fragen\n- Hinweis: Sie brauchen Ihre Kamera nicht einschalten und können per 
 Chat mit uns diskutieren. So lässt sich das Mittagessen leicht mit Inspirati
 on verbinden!Unser Referent: Lennart Hefler hat Wirtschaftsingenieurwesen 
 an der TU Dresden mit dem Schwerpunkt Produktions- und Logistiksysteme stu
 diert und anschließend einen Master in Information Systems &amp\; Operation
 s Management an der University of Nottingham absolviert. Nach mehreren Jah
 ren in der digitalen Produktentwicklung ? unter anderem als UX Designer\, 
 Produktmanager und Product Owner ? gründete er Vertical Nature mit dem Ziel\, R
 äume technischer\, gesünder und nachhaltiger zu gestalten. Heute bringt er techni
 sche Systematik\, gestalterisches Denken und unternehmerische Praxis zusam
 men\, um komplexe Projekte an der Schnittstelle von Innenarchitektur\, Mat
 erialwirkung und Nutzererlebnis umzusetzen.Moderation: Antoinette Beckert 
 ? Beratung\, Coaching und Impulse für nachhaltigen Wandel\n\nWir freuen uns auf
  Ihr Kommen und den Austausch! Bringen Sie gerne auch interessierte Kolleg
 /innen aus Ihrem Netzwerk mit!\nAntoinette Beckert\, Beirat des Vorstandes
  VDI-Bezirksverein Berlin-Brandenburg e.V.\n\nBild:&nbsp\;AJ_Watt via Gett
 yimages\n\nViel Spass wünscht Gratis-in-Berlin\n\nLink zum Tip: \nZu den Gratis
 -in-Berlin Angeboten: http://www.gratis-in-berlin.de\n
DTSTART;VALUE=DATE:20260520
DTEND;VALUE=DATE:20260521
SUMMARY:Lunch Talk: Innenräume neu denken ? Raumgesundheit\, Akustik und biop
 hile Gestaltung im technischen Kontext
END:VEVENT
END:VCALENDAR
