BEGIN:VCALENDAR
VERSION:2.0
PRODID:-//Gratis-in-Berlin//NONSGML kigkonsult.se iCalcreator 2.14//
METHOD:PUBLISH
X-WR-CALNAME:Gratis-in-Berlin Tip Kalender
X-WR-CALDESC:Erhalte Gratis-in-Berlin Tips in deinem Kalender
BEGIN:VEVENT
UID:20260424T170536UTC-3404NnKCCO@Gratis-in-Berlin
DTSTAMP:20260424T170536Z
DESCRIPTION:Wir laden euch herzlich ein zu einer rund zweistündigen Wanderung du
 rch die vielfältige Flora rund um den Hahneberg. Entdeckt dabei botanische R
 aritäten sowie küchentaugliches Wildobst und -gemüse. Im Mittelpunkt stehen essbare Pf
 lanzen und Heilpflanzen.Gemeinsam mit unserer Kräuterexpertin Frau Susanna K
 omischke\, die ihr umfangreiches Wissen über Heilwirkungen\, Verwendungsmöglichkei
 ten und Inhaltsstoffe mit euch teilt\, wandern wir entlang des ehemaligen 
 Grenzstreifens hinauf zum Hahneberg. Oben angekommen erwartet euch nicht n
 ur ein beeindruckender Blick über die Stadt\, sondern auch viele spannende neue
  Erkenntnisse.Für die Teilnahme ist eine gute Grundkondition für eine zweistündige Wander
 ung erforderlich. Bitte denkt an wetterfeste Kleidung und festes Schuhwerk
 .Die Teilnehmerzahl ist begrenzt. Wir bitten daher um Anmeldung per E-Mail
  an mail@naturschutzstation-hahneberg.de oder telefonisch unter 030 / 263 
 007 87.Die Führung ist kostenlos\, über eine Spende freuen wir uns jedoch sehr.\n\nV
 iel Spass wünscht Gratis-in-Berlin\n\nLink zum Tip: \nZu den Gratis-in-Berlin A
 ngeboten: http://www.gratis-in-berlin.de\n
DTSTART;VALUE=DATE:20260502
DTEND;VALUE=DATE:20260503
SUMMARY:Kräuterwanderung am Hahneberg
END:VEVENT
END:VCALENDAR
