BEGIN:VCALENDAR
VERSION:2.0
PRODID:-//Gratis-in-Berlin//NONSGML kigkonsult.se iCalcreator 2.14//
METHOD:PUBLISH
X-WR-CALNAME:Gratis-in-Berlin Tip Kalender
X-WR-CALDESC:Erhalte Gratis-in-Berlin Tips in deinem Kalender
BEGIN:VEVENT
UID:20260422T102657UTC-57174hUeo9@Gratis-in-Berlin
DTSTAMP:20260422T102657Z
DESCRIPTION:Zweimonatlich erscheinendes Stadtmagazin für Eltern und alle Leute\,
  die mit Kindern zu tun haben. Veranstaltungskalender\, Schwerpunktthema u
 nd viele gute Tipps. Online zum Download oder als Printmagazin. Liegt zur 
 kostenlosen Mitnahme aus\, 'wo sich Familien mit Interesse an Kultur und B
 ildung und schonen Dingen aufhalten:' ausgewahlte Geschafte\, kinderfreund
 liche Cafés und Restaurants\, Museen\, Kinderarzte\, Kinos und Theater\, Fre
 izeiteinrichtungen\, Familienbildungsstatten\,Büchereien\, Schulen und Kitas.'U
 pdate: Das Magazin liegt wohl nicht mehr aus\, aber Website des Verlags mi
 t Tips: berlinmitkind.de\n\nViel Spass wünscht Gratis-in-Berlin\n\nLink zum Tip
 : \nZu den Gratis-in-Berlin Angeboten: http://www.gratis-in-berlin.de\n
DTSTART;VALUE=DATE:20231226
DTEND;VALUE=DATE:20231227
SUMMARY:Himbeer Stadtmagazin für Leute mit Kindern
END:VEVENT
END:VCALENDAR
