BEGIN:VCALENDAR
VERSION:2.0
PRODID:-//Gratis-in-Berlin//NONSGML kigkonsult.se iCalcreator 2.14//
METHOD:PUBLISH
X-WR-CALNAME:Gratis-in-Berlin Tip Kalender
X-WR-CALDESC:Erhalte Gratis-in-Berlin Tips in deinem Kalender
BEGIN:VEVENT
UID:20260420T080617UTC-18570VZi3a@Gratis-in-Berlin
DTSTAMP:20260420T080617Z
DESCRIPTION:Die Organisation LesArt und das Literaturhaus Berlin laden an e
 inem Sonntag im Monat ins Kaminzimmer des Literaturhauses. Dort gibt es Kl
 assiker der Kinderliteratur\, moderne Kinderromane\, Bilderbücher und Hörkassetten
  - und das Ganze auf außergewöhnliche - will heißen: sinnliche\, spannende und 
 spielerische - Weise. Für die ganze Familie mit Kindern ab 6 Jahren. Eintritt f
 rei!Programm auf der Website.www.literaturhaus-berlin.de\n\nViel Spass wünscht 
 Gratis-in-Berlin\n\nLink zum Tip: \nZu den Gratis-in-Berlin Angeboten: htt
 p://www.gratis-in-berlin.de\n
DTSTART;VALUE=DATE:20130526
DTEND;VALUE=DATE:20130527
SUMMARY:Erlesener Sonntag im Kaminraum des Literaturhauses
END:VEVENT
END:VCALENDAR
