BEGIN:VCALENDAR
VERSION:2.0
PRODID:-//Gratis-in-Berlin//NONSGML kigkonsult.se iCalcreator 2.14//
METHOD:PUBLISH
X-WR-CALNAME:Gratis-in-Berlin Tip Kalender
X-WR-CALDESC:Erhalte Gratis-in-Berlin Tips in deinem Kalender
BEGIN:VEVENT
UID:20260420T155430UTC-6659c8w0Eu@Gratis-in-Berlin
DTSTAMP:20260420T155430Z
DESCRIPTION:Im Kreativhaus Berlin gibts jede Menge meist kostenlose Angebot
 e für Kids: ErzahlCafé\, Theater\, Tanz und Bühne\, Spiel\, Spaß\, Bewegung\, Lernen un
 d Erfahren\, Schulprojekte\, Workshops\, Feste und Ferien\, Archiv\, Graff
 iti\, Weiterbildungkreativhaus-berlin.de\n\nViel Spass wünscht Gratis-in-Berlin
 \n\nLink zum Tip: https://www.gratis-in-berlin.de/kinder-jugendliche/item/
 200273-kreativhaus-fuer-kids\nZu den Gratis-in-Berlin Angeboten: http://ww
 w.gratis-in-berlin.de\n
DTSTART;VALUE=DATE:20260112
DTEND;VALUE=DATE:20260113
SUMMARY:Kreativhaus für Kids
END:VEVENT
END:VCALENDAR
