BEGIN:VCALENDAR
VERSION:2.0
PRODID:-//Gratis-in-Berlin//NONSGML kigkonsult.se iCalcreator 2.14//
METHOD:PUBLISH
X-WR-CALNAME:Gratis-in-Berlin Tip Kalender
X-WR-CALDESC:Erhalte Gratis-in-Berlin Tips in deinem Kalender
BEGIN:VEVENT
UID:20260422T115151UTC-0222mvVuoU@Gratis-in-Berlin
DTSTAMP:20260422T115151Z
DESCRIPTION:'Wer eine Hebamme sucht\, einen Yogakurs für Schwangere oder einen B
 aby-Schwimmkurs\, der wird in kidsgo fündig. Das neue Magazin zeigt alle Vor-Or
 t-Service-Angebote rund um Schwangerschaft\, Geburt\, Baby\, Kleinkind und
  Familie. Die gute Nachricht: kidsgo ist kostenlos. Hebammen\, Familienbil
 dungsstätten\, Mütterzentren\, Sport- und Kultureinrichtungen\, Kirchengemeinden\
 , Vereine und Verbände der Region veröffentlichen ihre Angebote in kidsgo und v
 erteilen das Magazin.'kidsgo.de\n\nViel Spass wünscht Gratis-in-Berlin\n\nLink 
 zum Tip: \nZu den Gratis-in-Berlin Angeboten: http://www.gratis-in-berlin.
 de\n
DTSTART;VALUE=DATE:20231227
DTEND;VALUE=DATE:20231228
SUMMARY:Magazin Kidsgo für werdende oder Eltern mit Kleinkindern
END:VEVENT
END:VCALENDAR
