BEGIN:VCALENDAR
VERSION:2.0
PRODID:-//Gratis-in-Berlin//NONSGML kigkonsult.se iCalcreator 2.14//
METHOD:PUBLISH
X-WR-CALNAME:Gratis-in-Berlin Tip Kalender
X-WR-CALDESC:Erhalte Gratis-in-Berlin Tips in deinem Kalender
BEGIN:VEVENT
UID:20260420T094559UTC-9238AvTjUW@Gratis-in-Berlin
DTSTAMP:20260420T094559Z
DESCRIPTION:Das Private Museum für Tierkunde Berlin (PMTB) bietet allen interess
 ierten Naturliebhabern fachkundige Einblicke in die Natur.Geöffnet von Montag
  bis Freitag von 10 - 16 Uhr. Eintritt frei.Das Museum zum Anfassen möchte ze
 igen\, welche Artenvielfalt an Tieren und Pflanzen die Natur uns noch bere
 it halt. Dass verschiedene Tierarten nicht nur in fernen Landern vom Ausst
 erben bedroht sind\, sondern auch direkt vor unserer Haustür\, wird den Besuche
 rn in der Ausstellung des Museums gezeigt. Hier finden sich nicht nur Vitr
 inen\, sondern jede Menge dazugehörende 'Lebende Beispiele'.Eine kleine Anzah
 l alter und seltener Haustierrassen können Besucher in den Außengehegen kennen
  lernen.Vermutlich veraltet\, Seite&nbsp\;pmtb.de scheint nicht mehr zu fu
 nktionieren.\n\nViel Spass wünscht Gratis-in-Berlin\n\nLink zum Tip: https://ww
 w.gratis-in-berlin.de/kinder-jugendliche/item/2007200-privates-museum-fuer
 -tierkunde\nZu den Gratis-in-Berlin Angeboten: http://www.gratis-in-berlin
 .de\n
DTSTART;VALUE=DATE:20130525
DTEND;VALUE=DATE:20130526
SUMMARY:Privates Museum für Tierkunde
END:VEVENT
END:VCALENDAR
