BEGIN:VCALENDAR
VERSION:2.0
PRODID:-//Gratis-in-Berlin//NONSGML kigkonsult.se iCalcreator 2.14//
METHOD:PUBLISH
X-WR-CALNAME:Gratis-in-Berlin Tip Kalender
X-WR-CALDESC:Erhalte Gratis-in-Berlin Tips in deinem Kalender
BEGIN:VEVENT
UID:20260424T104121UTC-9544i3TrBR@Gratis-in-Berlin
DTSTAMP:20260424T104121Z
DESCRIPTION:Mit einem Familienfest wird Ostern wieder auf der Trabrennbahn 
 Karlshorst gefeiert\, und Osterfeuer (ab ca. 18 Uhr).&nbsp\;Start: 15.00 U
 hr\, mit Familienprogramm wie Hüpfburg&nbsp\;Ponyreiten\, Kettcar-Fahren\, Dose
 nwerfen.Und natürlich der dreitägige Riesenflohmarkt auf der Trabrennbahn (Fettsc
 hrift = Link). Früher zumindest galt:&nbsp\;Bei schlechtem Wetter findet das Fe
 st wohl in der Tribünenhalle statt.Osterfeuer 17.30/18.00 Uhr\n\nViel Spass wünscht 
 Gratis-in-Berlin\n\nLink zum Tip: \nZu den Gratis-in-Berlin Angeboten: htt
 p://www.gratis-in-berlin.de\n
DTSTART;VALUE=DATE:20260405
DTEND;VALUE=DATE:20260406
SUMMARY:Familienfest auf Trabrennbahn mit Familienprogramm und Osterfeuer
END:VEVENT
END:VCALENDAR
