BEGIN:VCALENDAR
VERSION:2.0
PRODID:-//Gratis-in-Berlin//NONSGML kigkonsult.se iCalcreator 2.14//
METHOD:PUBLISH
X-WR-CALNAME:Gratis-in-Berlin Tip Kalender
X-WR-CALDESC:Erhalte Gratis-in-Berlin Tips in deinem Kalender
BEGIN:VEVENT
UID:20260420T062923UTC-1450TlISFg@Gratis-in-Berlin
DTSTAMP:20260420T062923Z
DESCRIPTION:Passend zur Europäischen Woche der Abfallvermeidung (22. bis 29. 
 November 2014) erscheint 'Müllpopüll - Die Abfall-Rallye für Berlin' des Vereins Pindacti
 ca. Bei der abwechslungsreichen Entdeckungsreise durch unsere Abfalleimer 
 wird gerätselt\, gebastelt und experimentiert. Das kostenlose Heft wurde von
  der Stiftung Naturschutz Berlin aus Mitteln des Förderfonds Trenntstadt Berl
 in gefördert.Mit dem spielerischen und bunten Heft soll der Blick auf die eig
 ene Lebenswelt geschärft und zu einer praktischen Auseinandersetzung mit dem
  Thema Müll angeregt werden. Auch Erwachsene können noch etwas dazulernen und selb
 st für umweltbewusste Mülltrenner sind Aha-Erlebnisse garantiert. Der Wissensschatz 
 rund um Abfallvermeidung\, Mülltrennung und Recycling wird kreativ erweitert. D
 ie Aufgaben der Rallye sind so unterschiedlich\, dass für jedes Alter etwas dab
 ei ist: Vom Ausmalen bis zum Enträtseln einer kniffeligen Geheimschrift - ge
 meinsam im Team findet man die richtigen Antworten.\n\nViel Spass wünscht Grati
 s-in-Berlin\n\nLink zum Tip: \nZu den Gratis-in-Berlin Angeboten: http://w
 ww.gratis-in-berlin.de\n
DTSTART;VALUE=DATE:20141123
DTEND;VALUE=DATE:20141124
SUMMARY:Müllpopüll - Die Abfall-Rallye für Berlin 
END:VEVENT
END:VCALENDAR
