BEGIN:VCALENDAR
VERSION:2.0
PRODID:-//Gratis-in-Berlin//NONSGML kigkonsult.se iCalcreator 2.14//
METHOD:PUBLISH
X-WR-CALNAME:Gratis-in-Berlin Tip Kalender
X-WR-CALDESC:Erhalte Gratis-in-Berlin Tips in deinem Kalender
BEGIN:VEVENT
UID:20260422T133620UTC-2775Vo4aMT@Gratis-in-Berlin
DTSTAMP:20260422T133620Z
DESCRIPTION:Über Tisch und Bänke - Die einzigartige Bilderwelt der Ilon Wiklan
 d LesArt\, das Berliner Zentrum für Kinder- und Jugendliteratur zeigt bis zum 3
 0. Juni 2015 mehr als 150 Original-Illustrationen der schwedisch-estnische
 n Bilderbuchkünstlerin Ilon Wikland. Ilon Wikland schuf&nbsp\;Bilder für die meisten
  Texte Astrid Lindgrens\, z. B.&nbsp\;'Die Kinder aus Bullerbü'\, 'Karlsson vom
  Dach'\, 'Die Brüder Löwenherz'\, 'Ronja Räubertochter'\, 'Madita' oder 'Lotta aus d
 er Krachmacherstraße'. Anlässlich des 85. Geburtstags der Künstlerin&nbsp\;wird -&
 nbsp\;erstmals in Deutschland - eine umfangreiche Werkschau Ilon Wiklands 
 präsentiert. LesArt lädt herzlich ein zur Entdeckung der Bilderwelt Ilon Wikla
 nds und zu&nbsp\;eigenen zeichnerischen Versuchen. Öffnungszeiten: Dienstag
 \, Mittwoch und Sonntag von 14 - 18 Uhr\n\nViel Spass wünscht Gratis-in-Berlin
 \n\nLink zum Tip: \nZu den Gratis-in-Berlin Angeboten: http://www.gratis-i
 n-berlin.de\n
DTSTART;VALUE=DATE:20150329
DTEND;VALUE=DATE:20150330
SUMMARY:'Über Tisch und Bänke' - Eine Ausstellung für die ganze Familie
END:VEVENT
END:VCALENDAR
