BEGIN:VCALENDAR
VERSION:2.0
PRODID:-//Gratis-in-Berlin//NONSGML kigkonsult.se iCalcreator 2.14//
METHOD:PUBLISH
X-WR-CALNAME:Gratis-in-Berlin Tip Kalender
X-WR-CALDESC:Erhalte Gratis-in-Berlin Tips in deinem Kalender
BEGIN:VEVENT
UID:20260420T130256UTC-5716fcdtwk@Gratis-in-Berlin
DTSTAMP:20260420T130256Z
DESCRIPTION:Wir laden Sie herzlich zum kostenfreien start smart &nbsp\;?Elt
 ern-Talk' ein. Diskutieren Sie mit unseren Referenten\,&nbsp\;wie man von 
 Stärken auf Berufsfelder schließen kann und wie Interessen stimuliert werden 
 können. Und vor allem: wie Sie ihr Kind unterstützen können\, den Wunschberuf zu find
 en. Wir freuen uns wenn Ihr Sohn oder Ihre Tochter Sie begleitet.  Veranst
 altungsort: Die Veranstaltung findet in den Räumlichkeiten der Hochschule Fr
 esenius\, Jägerstraße 32\, D-10117 Berlin\, statt.  Kommende Termine: Donners
 tag\, 2. Juli 2015 Eltern-Talk: 20:00 ? 21:30 Uhr Einlass: ab 19.00 Uhr Sa
 mstag\, 4. Juli 2015 Eltern-Talk: 12:00 ? 13:30 Uhr Einlass: ab 11.00 Uhr 
 Wir bitten um eine verbindliche Anmeldung unter schule.start-smart.de Oder
  Sie rufen uns an: 0800 664 70 29 Die Teilnahme am ?Eltern-Talk' ist selbs
 tverständlich kostenfrei.\n\nViel Spass wünscht Gratis-in-Berlin\n\nLink zum Tip:
  \nZu den Gratis-in-Berlin Angeboten: http://www.gratis-in-berlin.de\n
DTSTART;VALUE=DATE:20150625
DTEND;VALUE=DATE:20150626
SUMMARY:Vom Schulabschluss zum Wunschberuf - Wie kann ich mein Kind bei der
  Studien- und Berufswahl unterstützen?
END:VEVENT
END:VCALENDAR
