BEGIN:VCALENDAR
VERSION:2.0
PRODID:-//Gratis-in-Berlin//NONSGML kigkonsult.se iCalcreator 2.14//
METHOD:PUBLISH
X-WR-CALNAME:Gratis-in-Berlin Tip Kalender
X-WR-CALDESC:Erhalte Gratis-in-Berlin Tips in deinem Kalender
BEGIN:VEVENT
UID:20260420T143244UTC-26351IebpZ@Gratis-in-Berlin
DTSTAMP:20260420T143244Z
DESCRIPTION:Unser gemeinnütziger Verein\, das Ki und Aikido Dojo Berlin e.V. bie
 tet seit 1981 Aikido-Training für Kinder (ab 6 Jahre) Montags und Freitags 16:0
 0-17:00 Uhr\, für Jugendliche (ab 12 Jahre) Montags und Freitags 17:00-18:30 Uh
 r\, in Berlin (Wedding)\, Triftstr. 67\, an. Ihr könnt bis zu zweimal kostenl
 os ausprobieren\, ob euch Aikido Spaß macht. Kommt einfach vorbei\, unser T
 rainer freut sich auf neue Teilnehmerinnen und neue Teilnehmer.Bitte beque
 me Sportkleidung mit langen Hosen und langen Ärmeln\, sowie Latschen mitbri
 ngen.Wer erst einmal zusehen will\, ist auch herzlich willkommen.\n\nViel 
 Spass wünscht Gratis-in-Berlin\n\nLink zum Tip: \nZu den Gratis-in-Berlin Angeb
 oten: http://www.gratis-in-berlin.de\n
DTSTART;VALUE=DATE:20161009
DTEND;VALUE=DATE:20161010
SUMMARY:Aikido für Kinder und Jugendliche in Wedding
END:VEVENT
END:VCALENDAR
