BEGIN:VCALENDAR
VERSION:2.0
PRODID:-//Gratis-in-Berlin//NONSGML kigkonsult.se iCalcreator 2.14//
METHOD:PUBLISH
X-WR-CALNAME:Gratis-in-Berlin Tip Kalender
X-WR-CALDESC:Erhalte Gratis-in-Berlin Tips in deinem Kalender
BEGIN:VEVENT
UID:20260420T141933UTC-6749LAASUr@Gratis-in-Berlin
DTSTAMP:20260420T141933Z
DESCRIPTION:Tanzen für die Kleinen Warum ist Kindertanz wichtig? Tanzen gibt Men
 schen jeden Alters ein besseres Körpergefühl. Die Kombination von Musik\, Spiel un
 d Tanz lässt die Kreativität\, das Körperbewusstsein und die Inspiration eines Ki
 ndes steigern. Viele Gruppen in der Woche - verschiedene Altersklassen Mon
 tag 16.00 Uhr ab 6 Jahre Montag 17.00 Uhr ab 9 Jahre TeenTanz (Streetdance
 \, Hip Hop\, Jazz Dance\, Video Clip Dancing)Montag 18.00 Uhr ab 11 Jahre 
 TeenTanzDienstag 16.00 Uhr ab 3 Jahre Mittwoch 16.00 Uhr ab 3 Jahre Mittwo
 ch 16.45 Uhr ab 5 Jahre Donnerstag 15.45 Uhr ab 3 Jahre Donnerstag 16.30 U
 hr ab 6 Jahre KOSTENLOSE PROBESTUNDE möglich. Bitte vorab die Tanzschule kont
 atieren.Tanzschule weRK36Tempelhofer Weg 70 / Sachsendamm 93 10829 Berlin 
 - Schöneberg www.werk36.deAnfahrt: S-Schöneberg\, S-Südkreuz\n\nViel Spass wünscht Gratis-
 in-Berlin\n\nLink zum Tip: \nZu den Gratis-in-Berlin Angeboten: http://www
 .gratis-in-berlin.de\n
DTSTART;VALUE=DATE:20170910
DTEND;VALUE=DATE:20170911
SUMMARY:Kindertanz & TeenTanz @ Tanzschule weRK36
END:VEVENT
END:VCALENDAR
