BEGIN:VCALENDAR
VERSION:2.0
PRODID:-//Gratis-in-Berlin//NONSGML kigkonsult.se iCalcreator 2.14//
METHOD:PUBLISH
X-WR-CALNAME:Gratis-in-Berlin Tip Kalender
X-WR-CALDESC:Erhalte Gratis-in-Berlin Tips in deinem Kalender
BEGIN:VEVENT
UID:20260419T130102UTC-7509EAsxMw@Gratis-in-Berlin
DTSTAMP:20260419T130102Z
DESCRIPTION:Mal ganz entspannt mit Kindern auf der Straße Fahrrad fahren - m
 it Laufrad\, Kinderrad\, Anhänger oder Familienlastenrad. In vielen Bezirker
 n&nbsp\;eroberen sich tausende Kinder auf Fahrrädern\, Tretrollern und Rolls
 chuhen als Kidical Mass die Straßen der Stadt\, um die Leichtigkeit des Rad
 fahrens zu erleben.Dieses Wochenende evtl. auch bundesweit\, auf jeden Fal
 l einige in Berlin\, Text-Quelle verlinkte ADFC-Seite:Samstag\, 27. Septem
 ber 2025Friedrichshain: Samstag\, 27. September\, 13:00 UhrStart: U-Bahnho
 f Frankfurter TorZiel: Scharnweberstraße (Schulzone)Lichtenberg (Weitlingki
 ez): Samstag\, 27. September\, 13:00 UhrStart: S-Bahnhof Lichtenberg (Weit
 lingstraße)Ziel: Scharnweberstraße (Schulzone)Tempelhof: Samstag\, 27. Septe
 mber\, 11:30 UhrStart: Rathaus TempelhofZiel: Paradestr./ Tempelhofer Damm
 Steglitz: Samstag\, 27. September\, 15:00 UhrStart: Rathaus Steglitz (Herm
 ann Ehlers Platz)Ziel: Rathaus Steglitz (Charkiw Park)Zehlendorf: Samstag\
 , 27. September\, 15:00 UhrStart: Conradschule WannseeZiel: Sderotplatz So
 nntag\, 28. September 2025Neukölln: Sonntag\, 28. September\, 13:30 UhrStart:
  U-Banhof Britz Süd (Gutschmidtstr.)Ziel: Park am Buschkrug\n\nViel Spass wünscht Gr
 atis-in-Berlin\n\nLink zum Tip: \nZu den Gratis-in-Berlin Angeboten: http:
 //www.gratis-in-berlin.de\n
DTSTART;VALUE=DATE:20250927
DTEND;VALUE=DATE:20250928
SUMMARY:Kidical Mass Kinderradtouren - bundesweit & viele in Berlin
END:VEVENT
END:VCALENDAR
