BEGIN:VCALENDAR
VERSION:2.0
PRODID:-//Gratis-in-Berlin//NONSGML kigkonsult.se iCalcreator 2.14//
METHOD:PUBLISH
X-WR-CALNAME:Gratis-in-Berlin Tip Kalender
X-WR-CALDESC:Erhalte Gratis-in-Berlin Tips in deinem Kalender
BEGIN:VEVENT
UID:20260420T132034UTC-9430hxTZOS@Gratis-in-Berlin
DTSTAMP:20260420T132034Z
DESCRIPTION:Basteln\, malen\, kneten\, schneiden\, kleben\, filzen - dazu v
 iel Platz\, Spielzeug und weiteres - Auf Spendenbasis.Außerdem Krabbel- und
  Spielgruppen\, mit und ohne Anleitung .. Familiencafe\, Tauschbox und vie
 les andere mehr. Siehe Webseite.Gehört zur Sozdia Stiftung Berlin\, einem Förder
 er für Kinder und Jugendarbeit. Es gibt bei uns und den anderen Sozdia Häusern vi
 ele weitere Veranstaltungen\, Kurse und Programmpunkte.Nähere Infos im web u
 nter sozdia.de\n\nViel Spass wünscht Gratis-in-Berlin\n\nLink zum Tip: \nZu den
  Gratis-in-Berlin Angeboten: http://www.gratis-in-berlin.de\n
DTSTART;VALUE=DATE:20230203
DTEND;VALUE=DATE:20230204
SUMMARY:Kinder-Angebote & Kurse in der Schmiede\, Rummelsburg
END:VEVENT
END:VCALENDAR
