BEGIN:VCALENDAR
VERSION:2.0
PRODID:-//Gratis-in-Berlin//NONSGML kigkonsult.se iCalcreator 2.14//
METHOD:PUBLISH
X-WR-CALNAME:Gratis-in-Berlin Tip Kalender
X-WR-CALDESC:Erhalte Gratis-in-Berlin Tips in deinem Kalender
BEGIN:VEVENT
UID:20260420T124945UTC-3180r77aoV@Gratis-in-Berlin
DTSTAMP:20260420T124945Z
DESCRIPTION:Jeden Donnerstag gibt es von 15 bis 16 Uhr etwas Besonderes auf
  dem Vierfelderhof zu erleben! Am 1. Donnerstag eines Monats: Ackerbaulich
 er Feldrundgang Wir machen gemeinsam einen Rundgang zu den Feldern und sch
 auen\, welche Pflanzen dort zu finden sind\, wie sich die Witterung auswir
 kt und wie sich die Pflanzenbestände entwickeln. Am 2. und 4. Donnerstag ein
 es Monats: Wir helfen auf dem Vierfelderhof Auf dem Hof ist nicht nur imme
 r was los sondern auch jede Menge zu tun. Egal ob Unkraut jäten\, die Tiere 
 füttern oder ausmisten\, neue Blumen und Gemüse pflanzen\, Zäune bauen und noch viiiee
 eel mehr. Am 3. und 5. Donnerstag eines Monats: Kreativer Nachmittag auf d
 em Vierfelderhof Es entstehen kleine Kunstwerke oder Nützliches für den Alltag. Vorr
 angig mit Materialien aus der Natur oder Dinge für die Natur. Ideen sind Willko
 mmen!www.vierfelderhof.de\n\nViel Spass wünscht Gratis-in-Berlin\n\nLink zum Ti
 p: https://www.gratis-in-berlin.de/kinder-jugendliche/item/2040923-helfen-
 auf-dem-vierfelderhof\nZu den Gratis-in-Berlin Angeboten: http://www.grati
 s-in-berlin.de\n
DTSTART;VALUE=DATE:20190124
DTEND;VALUE=DATE:20190125
SUMMARY:Helfen auf dem Vierfelderhof
END:VEVENT
END:VCALENDAR
